Workbook
Name \0: #REF!
Name \0: #REF!
Name \0: #REF!
Name \0: #REF!
Name \0: #REF!
Name \a: #REF!
Name \a: #REF!
Name \a: #REF!
Name \a: #REF!
Name \a: #REF!
Name \c: #REF!
Name \c: #REF!
Name \c: #REF!
Name \c: #REF!
Name \c: #REF!
Name \c: #REF!
Name \c: #REF!
Name \x: #REF!
Name \x: #REF!
Name \x: #REF!
Name \x: #REF!
Name \x: #REF!
Name \x: #REF!
Name \x: #REF!
Name \z: #REF!
Name \z: #REF!
Name \z: #REF!
Name \z: #REF!
Name \z: #REF!
Name \z: #REF!
Name \z: #REF!
Name _______________________pv3: #REF!
Name _______________________pv3: #REF!
Name _______________________pv3: #REF!
Name _______________________pv3: #REF!
Name _______________________pv3: #REF!
Name ______________________Ele200502: #REF!
Name ______________________Ele200502: #REF!
Name ______________________Ele200502: #REF!
Name ______________________Ele200502: #REF!
Name ______________________Ele200502: #REF!
Name ______________________pv3: #REF!
Name ______________________pv3: #REF!
Name ______________________pv3: #REF!
Name ______________________pv3: #REF!
Name ______________________Ser200705: #REF!
Name ______________________Ser200705: #REF!
Name ______________________Ser200705: #REF!
Name ______________________Ser200712: #REF!
Name ______________________Ser200712: #REF!
Name ______________________Ser200712: #REF!
Name ______________________Ser201104: #REF!
Name ______________________Ser201104: #REF!
Name ______________________Ser201104: #REF!
Name ______________________TR2: #REF!
Name ______________________TR2: #REF!
Name ______________________TR2: #REF!
Name ______________________TR5: #REF!
Name ______________________TR5: #REF!
Name ______________________TR5: #REF!

Sheet RESUMO
C2: =C11 -> RESUMO
C3: INFORMAÇÕES GERAIS | G3: Planilhas Referência | H3: Data Base | I3: ENCARGOS SOCIAIS: | J3: BDI SERVIÇOS (%)
G4: SINAPI-MG | H4: =BASE!E14096 -> 45901
C5: Município: PREFEITURA MUNICIPAL DE NOVA LIMA - MG | G5: SEINFRA-MG | H5: =BASE!E8970 -> 45839 | I5: HORISTA: | J5: ='COMP. BDI'!$N$8 -> 0.2265
C6: Projeto: ENTRONCAMENTO DA MG-030 x BR-356 – VIADUTO FERRADURA | G6: SUDECAP | H6: =BASE!E28882 -> 45839 | I6: ='ENCARGOS SOCIAIS COM ADIC. NOT.'!F49 -> 1.42779
C7: Responsável Técnico: SINVAL LADEIRA | G7: SICRO 3 | H7: =BASE!E124 -> 45839 | I7: MENSALISTA: | J7: BDI MATERIAL E EQUIP. (%)
C8: Nº CREA: 28498/D | G8: COPASA | H8: =BASE!E33710 -> 45931 | I8: ='ENCARGOS SOCIAIS COM ADIC. NOT.'!G49 -> 0.92305
C9: DATA: | D9: =TODAY() -> 46092 | G9: TIPO DE TABELA: | H9: ONERADO | J9: ='COMP. BDI'!N17 -> 0.156
C11: RESUMO
C12: ITEM | F12: DESCRIÇÃO DOS SERVIÇOS | G12: Preço (R$) Total | J12: PESO (%)
G13: Sem BDI | I13: Com BDI
C15: 1 | F15: =VLOOKUP($C15,'MEMÓRIA DE CÁLCULO'!$B:$M,4,0) -> CANTEIRO DE OBRA | G15: =VLOOKUP(C15,'PLANILHA ORÇAMENTÁRIA'!C:M,8,0) -> 2235950.3 | I15: =VLOOKUP(C15,'PLANILHA ORÇAMENTÁRIA'!C:M,10,0) -> 2742382.5 | J15: =I15/$I$33 -> 0.058340606
C16: 2 | F16: =VLOOKUP($C16,'MEMÓRIA DE CÁLCULO'!$B:$M,4,0) -> DEMOLIÇÕES E REMOÇÕES | G16: =VLOOKUP(C16,'PLANILHA ORÇAMENTÁRIA'!C:M,8,0) -> 66702.21 | I16: =VLOOKUP(C16,'PLANILHA ORÇAMENTÁRIA'!C:M,10,0) -> 81844.89 | J16: =I16/$I$33 -> 0.0017411432
C17: 3 | F17: =VLOOKUP($C17,'MEMÓRIA DE CÁLCULO'!$B:$M,4,0) -> TERRAPLENAGEM | G17: =VLOOKUP(C17,'PLANILHA ORÇAMENTÁRIA'!C:M,8,0) -> 858994.8 | I17: =VLOOKUP(C17,'PLANILHA ORÇAMENTÁRIA'!C:M,10,0) -> 1054710.5 | J17: =I17/$I$33 -> 0.022437589
C18: 4 | F18: =VLOOKUP($C18,'MEMÓRIA DE CÁLCULO'!$B:$M,4,0) -> CONTENÇÕES | G18: =VLOOKUP(C18,'PLANILHA ORÇAMENTÁRIA'!C:M,8,0) -> 2455317.6 | I18: =VLOOKUP(C18,'PLANILHA ORÇAMENTÁRIA'!C:M,10,0) -> 3011973 | J18: =I18/$I$33 -> 0.064075791
C19: 5 | F19: =VLOOKUP($C19,'MEMÓRIA DE CÁLCULO'!$B:$M,4,0) -> ESTRUTURAL DO VIADUTO | G19: =VLOOKUP(C19,'PLANILHA ORÇAMENTÁRIA'!C:M,8,0) -> 18205977 | I19: =VLOOKUP(C19,'PLANILHA ORÇAMENTÁRIA'!C:M,10,0) -> 22329475 | J19: =I19/$I$33 -> 0.47503042
C20: 6 | F20: =VLOOKUP($C20,'MEMÓRIA DE CÁLCULO'!$B:$M,4,0) -> PAVIMENTAÇÃO | G20: =VLOOKUP(C20,'PLANILHA ORÇAMENTÁRIA'!C:M,8,0) -> 1280111.9 | I20: =VLOOKUP(C20,'PLANILHA ORÇAMENTÁRIA'!C:M,10,0) -> 1569815.7 | J20: =I20/$I$33 -> 0.033395778
C21: 7 | F21: =VLOOKUP($C21,'MEMÓRIA DE CÁLCULO'!$B:$M,4,0) -> DRENAGEM PROFUNDA E SUPERFICIAL | G21: =VLOOKUP(C21,'PLANILHA ORÇAMENTÁRIA'!C:M,8,0) -> 962079.04 | I21: =VLOOKUP(C21,'PLANILHA ORÇAMENTÁRIA'!C:M,10,0) -> 1179990.8 | J21: =I21/$I$33 -> 0.025102762
C22: 8 | F22: =VLOOKUP($C22,'MEMÓRIA DE CÁLCULO'!$B:$M,4,0) -> SINALIZAÇÃO VIÁRIA | G22: =VLOOKUP(C22,'PLANILHA ORÇAMENTÁRIA'!C:M,8,0) -> 832695.92 | I22: =VLOOKUP(C22,'PLANILHA ORÇAMENTÁRIA'!C:M,10,0) -> 1021319.9 | J22: =I22/$I$33 -> 0.021727247
C23: 9 | F23: =VLOOKUP($C23,'MEMÓRIA DE CÁLCULO'!$B:$M,4,0) -> SERVIÇOS TÉCNICOS E DE APOIO | G23: =VLOOKUP(C23,'PLANILHA ORÇAMENTÁRIA'!C:M,8,0) -> 455546.52 | I23: =VLOOKUP(C23,'PLANILHA ORÇAMENTÁRIA'!C:M,10,0) -> 558711.96 | J23: =I23/$I$33 -> 0.011885867
C24: 10 | F24: =VLOOKUP($C24,'MEMÓRIA DE CÁLCULO'!$B:$M,4,0) -> SINALIZAÇÃO DE TRÂNSITO | G24: =VLOOKUP(C24,'PLANILHA ORÇAMENTÁRIA'!C:M,8,0) -> 746701.44 | I24: =VLOOKUP(C24,'PLANILHA ORÇAMENTÁRIA'!C:M,10,0) -> 915829.2 | J24: =I24/$I$33 -> 0.01948307
C25: 11 | F25: =VLOOKUP($C25,'MEMÓRIA DE CÁLCULO'!$B:$M,4,0) -> PLATAFORMA TELESCÓPICA COM ALTURA DE TRABALHO DE 34M | G25: =VLOOKUP(C25,'PLANILHA ORÇAMENTÁRIA'!C:M,8,0) -> 1315468.8 | I25: =VLOOKUP(C25,'PLANILHA ORÇAMENTÁRIA'!C:M,10,0) -> 1613422.6 | J25: =I25/$I$33 -> 0.034323458
C26: 12 | F26: =VLOOKUP($C26,'MEMÓRIA DE CÁLCULO'!$B:$M,4,0) -> GERADOR DE ENERGIA | G26: =VLOOKUP(C26,'PLANILHA ORÇAMENTÁRIA'!C:M,8,0) -> 277555.2 | I26: =VLOOKUP(C26,'PLANILHA ORÇAMENTÁRIA'!C:M,10,0) -> 340421.28 | J26: =I26/$I$33 -> 0.0072420182
... C32: 18 | F32: =VLOOKUP($C32,'MEMÓRIA DE CÁLCULO'!$B:$M,4,0) -> ADMINISTRAÇÃO LOCAL | G32: =VLOOKUP(C32,'PLANILHA ORÇAMENTÁRIA'!C:M,8,0) -> 4437882.8 | I32: =VLOOKUP(C32,'PLANILHA ORÇAMENTÁRIA'!C:M,10,0) -> 5443063 | J32: =I32/$I$33 -> 0.11579406
F33: TOTAL | G33: =SUBTOTAL(9,G15:G32) -> 38324592 | I33: =SUBTOTAL(9,I15:I32) -> 47006411 | J33: =SUBTOTAL(9,J15:J32) -> 1
I34: =I33-'PLANILHA ORÇAMENTÁRIA'!L377 -> 0

Sheet PLANILHA ORÇAMENTÁRIA
C2: =C10 -> PLANILHA ORÇAMENTÁRIA
C3: INFORMAÇÕES GERAIS | I3: Planilha Referência de Preço | K3: Data Base | L3: ENCARGOS SOCIAIS | M3: BDI SERVIÇOS (%)
I4: =RESUMO!G4 -> SINAPI-MG | K4: =RESUMO!H4 -> 45901
C5: Município: PREFEITURA MUNICIPAL DE NOVA LIMA - MG | I5: =RESUMO!G5 -> SEINFRA-MG | K5: =RESUMO!H5 -> 45839 | L5: HORISTA: | M5: ='COMP. BDI'!$N$8 -> 0.2265
C6: Projeto: ENTRONCAMENTO DA MG-030 x BR-356 – VIADUTO FERRADURA | I6: =RESUMO!G6 -> SUDECAP | K6: =RESUMO!H6 -> 45839 | L6: ='ENCARGOS SOCIAIS COM ADIC. NOT.'!F49 -> 1.42779
C7: Responsável Técnico: SINVAL LADEIRA | I7: =RESUMO!G7 -> SICRO 3 | K7: =RESUMO!H7 -> 45839 | L7: MENSALISTA: | M7: BDI MATERIAL E EQUIP. (%)
C8: Nº CREA: 28498/D | I8: =RESUMO!G8 -> COPASA | K8: =RESUMO!H8 -> 45931 | L8: ='ENCARGOS SOCIAIS COM ADIC. NOT.'!G49 -> 0.92305
C9: DATA: | D9: =RESUMO!D9 -> 46092 | I9: TIPO DE TABELA: | K9: ONERADO | M9: ='COMP. BDI'!N17 -> 0.156
C10: PLANILHA ORÇAMENTÁRIA
C12: ITEM | D12: CÓDIGO | E12: ÓRGÃO | F12: DESCRIÇÃO DOS SERVIÇOS | G12: UNIDADE | H12: QUANTID. | I12: Preço (R$) | K12: Preço (R$) | M12: BDI / MULTIPLICADOR
I13: Sem BDI | K13: Com BDI
I14: Unitário | J14: Total | K14: Unitário | L14: Total | P14: PREÇO TOTAL BASE ANTIGA
B15: =D15 | C15: 1 | F15: =VLOOKUP($C15,'MEMÓRIA DE CÁLCULO'!$B:$M,4,0) -> CANTEIRO DE OBRA | J15: =SUBTOTAL(9,J16:J80) -> 2235950.3 | L15: =SUBTOTAL(9,L16:L80) -> 2742382.5 | N15: =L15/$L$377 -> 0.058340606 | P15: 2825627.5
A16: 1 | B16: =D16 | C16: =$C$15&"."&A16 -> 1.1 | F16: =VLOOKUP($C16,'MEMÓRIA DE CÁLCULO'!$B:$M,4,0) -> INSTALAÇÃO DA OBRA | J16: =SUBTOTAL(9,J17) -> 15222 | L16: =SUBTOTAL(9,L17) -> 18669.9 | N16: =L16/$L$377 -> 0.00039717774 | P16: 18883.2
A17: 1 | B17: =D17 -> 01.01.21 | C17: =$C$16&"."&A17 -> 1.1.1 | D17: 01.01.21 | E17: =IF(LEFT(D17,3)="CPU",VLOOKUP(B17,BASE!A:E,2,0),VLOOKUP(D17,BASE!A:E,2,0)) -> SUDECAP | F17: =IF(LEFT(D17,3)="CPU",VLOOKUP(B17,BASE!A:E,3,0),VLOOKUP(D17,BASE!A:E,3,0)) -> ESCRITÓRIO DA CONTRATADA - ATÉ 22M2 | G17: =IF(LEFT(D17,3)="CPU",VLOOKUP(B17,BASE!A:E,4,0),VLOOKUP(D17,BASE!A:E,4,0)) -> M2 | H17: =VLOOKUP($C17,'MEMÓRIA DE CÁLCULO'!$B:$M,12,0) -> 30 | I17: =IF(LEFT(D17,3)="CPU",VLOOKUP(B17,BASE!A:E,5,0),VLOOKUP(D17,BASE!A:E,5,0)) -> 507.4 | J17: =IFERROR(ROUND($H17*I17,2),"") -> 15222 | K17: =ROUND(I17*(1+$M$5),2) -> 622.33 | L17: =IFERROR(ROUND($H17*K17,2),"") -> 18669.9 | M17: =$M$5 -> 0.2265 | N17: =L17/$L$377 -> 0.00039717774 | P17: 18883.2
A18: 2 | B18: =D18 | C18: =$C$15&"."&A18 -> 1.2 | F18: =VLOOKUP($C18,'MEMÓRIA DE CÁLCULO'!$B:$M,4,0) -> BARRACAO DE OBRA | J18: =SUBTOTAL(9,J19:J20) -> 58176.74 | L18: =SUBTOTAL(9,L19:L20) -> 71353.32 | N18: =L18/$L$377 -> 0.0015179487 | P18: 75049.98
A19: 1 | B19: =D19 -> 01.02.10 | C19: =$C$18&"."&A19 -> 1.2.1 | D19: 01.02.10 | E19: =IF(LEFT(D19,3)="CPU",VLOOKUP(B19,BASE!A:E,2,0),VLOOKUP(D19,BASE!A:E,2,0)) -> SUDECAP | F19: =IF(LEFT(D19,3)="CPU",VLOOKUP(B19,BASE!A:E,3,0),VLOOKUP(D19,BASE!A:E,3,0)) -> ÁREA COBERTA EM TELHA DE FIBROCIMENTO | G19: =IF(LEFT(D19,3)="CPU",VLOOKUP(B19,BASE!A:E,4,0),VLOOKUP(D19,BASE!A:E,4,0)) -> M2 | H19: =VLOOKUP($C19,'MEMÓRIA DE CÁLCULO'!$B:$M,12,0) -> 240 | I19: =IF(LEFT(D19,3)="CPU",VLOOKUP(B19,BASE!A:E,5,0),VLOOKUP(D19,BASE!A:E,5,0)) -> 118.11 | J19: =IFERROR(ROUND($H19*I19,2),"") -> 28346.4 | K19: =ROUND(I19*(1+$M$5),2) -> 144.86 | L19: =IFERROR(ROUND($H19*K19,2),"") -> 34766.4 | M19: =$M$5 -> 0.2265 | N19: =L19/$L$377 -> 0.00073960976 | P19: 38325.6
A20: 2 | B20: =D20 -> ED-50129 | C20: =$C$18&"."&A20 -> 1.2.2 | D20: ED-50129 | E20: =IF(LEFT(D20,3)="CPU",VLOOKUP(B20,BASE!A:E,2,0),VLOOKUP(D20,BASE!A:E,2,0)) -> SEINFRA-MG | F20: =IF(LEFT(D20,3)="CPU",VLOOKUP(B20,BASE!A:E,3,0),VLOOKUP(D20,BASE!A:E,3,0)) -> BARRACÃO DE OBRA PARA DEPÓSITO E FERRAMENTARIA TIPO-II, ÁREA INTERNA 25,41M2, EM CHAPA DE COMPENSADO RESINADO, INCLUSIVE MOBILIÁRIO (OBRA DE MÉDIO PORTE, EFETIVO DE 30 A 60 HOMENS), PADRÃO DER-MG | G20: =IF(LEFT(D20,3)="CPU",VLOOKUP(B20,BASE!A:E,4,0),VLOOKUP(D20,BASE!A:E,4,0)) -> UN | H20: =VLOOKUP($C20,'MEMÓRIA DE CÁLCULO'!$B:$M,12,0) -> 2 | I20: =IF(LEFT(D20,3)="CPU",VLOOKUP(B20,BASE!A:E,5,0),VLOOKUP(D20,BASE!A:E,5,0)) -> 14915.17 | J20: =IFERROR(ROUND($H20*I20,2),"") -> 29830.34 | K20: =ROUND(I20*(1+$M$5),2) -> 18293.46 | L20: =IFERROR(ROUND($H20*K20,2),"") -> 36586.92 | M20: =$M$5 -> 0.2265 | N20: =L20/$L$377 -> 0.00077833894 | P20: 36724.38
A21: 3 | B21: =D21 | C21: =$C$15&"."&A21 -> 1.3 | F21: =VLOOKUP($C21,'MEMÓRIA DE CÁLCULO'!$B:$M,4,0) -> PLACA DE OBRA | J21: =SUBTOTAL(9,J22) -> 10280.4 | L21: =SUBTOTAL(9,L22) -> 12608.8 | N21: =L21/$L$377 -> 0.00026823575 | P21: 12604.8
A22: 1 | B22: =D22 -> ED-16660 | C22: =$C$21&"."&A22 -> 1.3.1 | D22: ED-16660 | E22: =IF(LEFT(D22,3)="CPU",VLOOKUP(B22,BASE!A:E,2,0),VLOOKUP(D22,BASE!A:E,2,0)) -> SEINFRA-MG | F22: =IF(LEFT(D22,3)="CPU",VLOOKUP(B22,BASE!A:E,3,0),VLOOKUP(D22,BASE!A:E,3,0)) -> FORNECIMENTO E COLOCAÇÃO DE PLACA DE OBRA EM CHAPA GALVANIZADA #26, ESP. 0,45 MM, PLOTADA COM ADESIVO VINÍLICO, AFIXADA COM REBITES 4,8X40 MM, EM ESTRUTURA METÁLICA DE METALON 20X20 MM, ESP. 1,25 MM, INCLUSIVE SUPORTE EM EUCALIPTO AUTOCLAVADO PINTADO COM TINTA PVA DUAS (2) DEMÃOS | G22: =IF(LEFT(D22,3)="CPU",VLOOKUP(B22,BASE!A:E,4,0),VLOOKUP(D22,BASE!A:E,4,0)) -> M2 | H22: =VLOOKUP($C22,'MEMÓRIA DE CÁLCULO'!$B:$M,12,0) -> 40 | I22: =IF(LEFT(D22,3)="CPU",VLOOKUP(B22,BASE!A:E,5,0),VLOOKUP(D22,BASE!A:E,5,0)) -> 257.01 | J22: =IFERROR(ROUND($H22*I22,2),"") -> 10280.4 | K22: =ROUND(I22*(1+$M$5),2) -> 315.22 | L22: =IFERROR(ROUND($H22*K22,2),"") -> 12608.8 | M22: =$M$5 -> 0.2265 | N22: =L22/$L$377 -> 0.00026823575 | P22: 12604.8
A23: 4 | B23: =D23 | C23: =$C$15&"."&A23 -> 1.4 | F23: =VLOOKUP($C23,'MEMÓRIA DE CÁLCULO'!$B:$M,4,0) -> TAPUME | J23: =SUBTOTAL(9,J24:J28) -> 143244.5 | L23: =SUBTOTAL(9,L24:L28) -> 175691.5 | N23: =L23/$L$377 -> 0.0037376072 | P23: 175470.5
A24: 1 | B24: =D24 -> 01.04.01 | C24: =$C$23&"."&A24 -> 1.4.1 | D24: 01.04.01 | E24: =IF(LEFT(D24,3)="CPU",VLOOKUP(B24,BASE!A:E,2,0),VLOOKUP(D24,BASE!A:E,2,0)) -> SUDECAP | F24: =IF(LEFT(D24,3)="CPU",VLOOKUP(B24,BASE!A:E,3,0),VLOOKUP(D24,BASE!A:E,3,0)) -> TAPUME PADRÃO SUDECAP, DE COMPENSADO 10MM, COM FIXAÇÃO ENTERRADA | G24: =IF(LEFT(D24,3)="CPU",VLOOKUP(B24,BASE!A:E,4,0),VLOOKUP(D24,BASE!A:E,4,0)) -> M | H24: =VLOOKUP($C24,'MEMÓRIA DE CÁLCULO'!$B:$M,12,0) -> 500 | I24: =IF(LEFT(D24,3)="CPU",VLOOKUP(B24,BASE!A:E,5,0),VLOOKUP(D24,BASE!A:E,5,0)) -> 110.06 | J24: =IFERROR(ROUND($H24*I24,2),"") -> 55030 | K24: =ROUND(I24*(1+$M$5),2) -> 134.99 | L24: =IFERROR(ROUND($H24*K24,2),"") -> 67495 | M24: =$M$5 -> 0.2265 | N24: =L24/$L$377 -> 0.001435868 | P24: 67325
A25: 2 | B25: =D25 -> 01.04.09 | C25: =$C$23&"."&A25 -> 1.4.2 | D25: 01.04.09 | E25: =IF(LEFT(D25,3)="CPU",VLOOKUP(B25,BASE!A:E,2,0),VLOOKUP(D25,BASE!A:E,2,0)) -> SUDECAP | F25: =IF(LEFT(D25,3)="CPU",VLOOKUP(B25,BASE!A:E,3,0),VLOOKUP(D25,BASE!A:E,3,0)) -> TELA - TAPUME DE POLIPROPILENO H=1,20 M, INCLUSIVE BASE | G25: =IF(LEFT(D25,3)="CPU",VLOOKUP(B25,BASE!A:E,4,0),VLOOKUP(D25,BASE!A:E,4,0)) -> M | H25: =VLOOKUP($C25,'MEMÓRIA DE CÁLCULO'!$B:$M,12,0) -> 950 | I25: =IF(LEFT(D25,3)="CPU",VLOOKUP(B25,BASE!A:E,5,0),VLOOKUP(D25,BASE!A:E,5,0)) -> 12.48 | J25: =IFERROR(ROUND($H25*I25,2),"") -> 11856 | K25: =ROUND(I25*(1+$M$5),2) -> 15.31 | L25: =IFERROR(ROUND($H25*K25,2),"") -> 14544.5 | M25: =$M$5 -> 0.2265 | N25: =L25/$L$377 -> 0.00030941524 | P25: 13737
A26: 3 | B26: =D26 -> 01.04.10 | C26: =$C$23&"."&A26 -> 1.4.3 | D26: 01.04.10 | E26: =IF(LEFT(D26,3)="CPU",VLOOKUP(B26,BASE!A:E,2,0),VLOOKUP(D26,BASE!A:E,2,0)) -> SUDECAP | F26: =IF(LEFT(D26,3)="CPU",VLOOKUP(B26,BASE!A:E,3,0),VLOOKUP(D26,BASE!A:E,3,0)) -> PROTEÇAO COM FITA ZEBRADA AMARELA L=7CM E PEÇA 7X7 | G26: =IF(LEFT(D26,3)="CPU",VLOOKUP(B26,BASE!A:E,4,0),VLOOKUP(D26,BASE!A:E,4,0)) -> M | H26: =VLOOKUP($C26,'MEMÓRIA DE CÁLCULO'!$B:$M,12,0) -> 1000 | I26: =IF(LEFT(D26,3)="CPU",VLOOKUP(B26,BASE!A:E,5,0),VLOOKUP(D26,BASE!A:E,5,0)) -> 9.81 | J26: =IFERROR(ROUND($H26*I26,2),"") -> 9810 | K26: =ROUND(I26*(1+$M$5),2) -> 12.03 | L26: =IFERROR(ROUND($H26*K26,2),"") -> 12030 | M26: =$M$5 -> 0.2265 | N26: =L26/$L$377 -> 0.00025592254 | P26: 12660
A27: 4 | B27: =D27 -> 01.04.19 | C27: =$C$23&"."&A27 -> 1.4.4 | D27: 01.04.19 | E27: =IF(LEFT(D27,3)="CPU",VLOOKUP(B27,BASE!A:E,2,0),VLOOKUP(D27,BASE!A:E,2,0)) -> SUDECAP | F27: =IF(LEFT(D27,3)="CPU",VLOOKUP(B27,BASE!A:E,3,0),VLOOKUP(D27,BASE!A:E,3,0)) -> TAPUME METÁLICO COM TELA E BASE ENTERRADA (M) | G27: =IF(LEFT(D27,3)="CPU",VLOOKUP(B27,BASE!A:E,4,0),VLOOKUP(D27,BASE!A:E,4,0)) -> M | H27: =VLOOKUP($C27,'MEMÓRIA DE CÁLCULO'!$B:$M,12,0) -> 550 | I27: =IF(LEFT(D27,3)="CPU",VLOOKUP(B27,BASE!A:E,5,0),VLOOKUP(D27,BASE!A:E,5,0)) -> 114.78 | J27: =IFERROR(ROUND($H27*I27,2),"") -> 63129 | K27: =ROUND(I27*(1+$M$5),2) -> 140.78 | L27: =IFERROR(ROUND($H27*K27,2),"") -> 77429 | M27: =$M$5 -> 0.2265 | N27: =L27/$L$377 -> 0.0016472009 | P27: 77555.5
A28: 5 | B28: =D28 -> 01.04.20 | C28: =$C$23&"."&A28 -> 1.4.5 | D28: 01.04.20 | E28: =IF(LEFT(D28,3)="CPU",VLOOKUP(B28,BASE!A:E,2,0),VLOOKUP(D28,BASE!A:E,2,0)) -> SUDECAP | F28: =IF(LEFT(D28,3)="CPU",VLOOKUP(B28,BASE!A:E,3,0),VLOOKUP(D28,BASE!A:E,3,0)) -> REMANEJAMENTO DE TAPUME | G28: =IF(LEFT(D28,3)="CPU",VLOOKUP(B28,BASE!A:E,4,0),VLOOKUP(D28,BASE!A:E,4,0)) -> M | H28: =VLOOKUP($C28,'MEMÓRIA DE CÁLCULO'!$B:$M,12,0) -> 350 | I28: =IF(LEFT(D28,3)="CPU",VLOOKUP(B28,BASE!A:E,5,0),VLOOKUP(D28,BASE!A:E,5,0)) -> 9.77 | J28: =IFERROR(ROUND($H28*I28,2),"") -> 3419.5 | K28: =ROUND(I28*(1+$M$5),2) -> 11.98 | L28: =IFERROR(ROUND($H28*K28,2),"") -> 4193 | M28: =$M$5 -> 0.2265 | N28: =L28/$L$377 -> 8.9200599e-05 | P28: 4193
A29: 5 | B29: =D29 | C29: =$C$15&"."&A29 -> 1.5 | F29: =VLOOKUP($C29,'MEMÓRIA DE CÁLCULO'!$B:$M,4,0) -> INSTALAÇÃO PROVISÓRIA- CONCESSIONÁRIA | J29: =SUBTOTAL(9,J30:J31) -> 2207.48 | L29: =SUBTOTAL(9,L30:L31) -> 2707.48 | N29: =L29/$L$377 -> 5.7598101e-05 | P29: 2799.48
A30: 1 | B30: =D30 -> 01.06.01 | C30: =$C$29&"."&A30 -> 1.5.1 | D30: 01.06.01 | E30: =IF(LEFT(D30,3)="CPU",VLOOKUP(B30,BASE!A:E,2,0),VLOOKUP(D30,BASE!A:E,2,0)) -> SUDECAP | F30: =IF(LEFT(D30,3)="CPU",VLOOKUP(B30,BASE!A:E,3,0),VLOOKUP(D30,BASE!A:E,3,0)) -> PADRÃO CEMIG PROVISÓRIO TIPO C3, DEMANDA PROVÁVEL DE 23,1 ATÉ 27,0KW (3F+N) | G30: =IF(LEFT(D30,3)="CPU",VLOOKUP(B30,BASE!A:E,4,0),VLOOKUP(D30,BASE!A:E,4,0)) -> UN | H30: =VLOOKUP($C30,'MEMÓRIA DE CÁLCULO'!$B:$M,12,0) -> 2 | I30: =IF(LEFT(D30,3)="CPU",VLOOKUP(B30,BASE!A:E,5,0),VLOOKUP(D30,BASE!A:E,5,0)) -> 702.2 | J30: =IFERROR(ROUND($H30*I30,2),"") -> 1404.4 | K30: =ROUND(I30*(1+$M$5),2) -> 861.25 | L30: =IFERROR(ROUND($H30*K30,2),"") -> 1722.5 | M30: =$M$5 -> 0.2265 | N30: =L30/$L$377 -> 3.6643938e-05 | P30: 1743.12
A31: 2 | B31: =D31 -> 01.06.05 | C31: =$C$29&"."&A31 -> 1.5.2 | D31: 01.06.05 | E31: =IF(LEFT(D31,3)="CPU",VLOOKUP(B31,BASE!A:E,2,0),VLOOKUP(D31,BASE!A:E,2,0)) -> SUDECAP | F31: =IF(LEFT(D31,3)="CPU",VLOOKUP(B31,BASE!A:E,3,0),VLOOKUP(D31,BASE!A:E,3,0)) -> PADRÃO COPASA - KIT CAVALETE METAL E REGISTRO 3/4" | G31: =IF(LEFT(D31,3)="CPU",VLOOKUP(B31,BASE!A:E,4,0),VLOOKUP(D31,BASE!A:E,4,0)) -> UN | H31: =VLOOKUP($C31,'MEMÓRIA DE CÁLCULO'!$B:$M,12,0) -> 2 | I31: =IF(LEFT(D31,3)="CPU",VLOOKUP(B31,BASE!A:E,5,0),VLOOKUP(D31,BASE!A:E,5,0)) -> 401.54 | J31: =IFERROR(ROUND($H31*I31,2),"") -> 803.08 | K31: =ROUND(I31*(1+$M$5),2) -> 492.49 | L31: =IFERROR(ROUND($H31*K31,2),"") -> 984.98 | M31: =$M$5 -> 0.2265 | N31: =L31/$L$377 -> 2.0954163e-05 | P31: 1056.36
A32: 6 | B32: =D32 | C32: =$C$15&"."&A32 -> 1.6 | F32: =VLOOKUP($C32,'MEMÓRIA DE CÁLCULO'!$B:$M,4,0) -> REDE INTERNA E PROVISÓRIA DE ÁGUA E ESGOTO | J32: =SUBTOTAL(9,J33:J35) -> 21265.14 | L32: =SUBTOTAL(9,L33:L35) -> 26081.18 | N32: =L32/$L$377 -> 0.00055484305 | P32: 26135
A33: 1 | B33: =D33 -> 01.08.01 | C33: =$C$32&"."&A33 -> 1.6.1 | D33: 01.08.01 | E33: =IF(LEFT(D33,3)="CPU",VLOOKUP(B33,BASE!A:E,2,0),VLOOKUP(D33,BASE!A:E,2,0)) -> SUDECAP | F33: =IF(LEFT(D33,3)="CPU",VLOOKUP(B33,BASE!A:E,3,0),VLOOKUP(D33,BASE!A:E,3,0)) -> REDE INTERNA E PROVISÓRIA DE ÁGUA E ESGOTO TUBO PVC D= 100MM | G33: =IF(LEFT(D33,3)="CPU",VLOOKUP(B33,BASE!A:E,4,0),VLOOKUP(D33,BASE!A:E,4,0)) -> M | H33: =VLOOKUP($C33,'MEMÓRIA DE CÁLCULO'!$B:$M,12,0) -> 150 | I33: =IF(LEFT(D33,3)="CPU",VLOOKUP(B33,BASE!A:E,5,0),VLOOKUP(D33,BASE!A:E,5,0)) -> 20.41 | J33: =IFERROR(ROUND($H33*I33,2),"") -> 3061.5 | K33: =ROUND(I33*(1+$M$5),2) -> 25.03 | L33: =IFERROR(ROUND($H33*K33,2),"") -> 3754.5 | M33: =$M$5 -> 0.2265 | N33: =L33/$L$377 -> 7.9872085e-05 | P33: 3754.5
A34: 2 | B34: =D34 -> 01.08.02 | C34: =$C$32&"."&A34 -> 1.6.2 | D34: 01.08.02 | E34: =IF(LEFT(D34,3)="CPU",VLOOKUP(B34,BASE!A:E,2,0),VLOOKUP(D34,BASE!A:E,2,0)) -> SUDECAP | F34: =IF(LEFT(D34,3)="CPU",VLOOKUP(B34,BASE!A:E,3,0),VLOOKUP(D34,BASE!A:E,3,0)) -> REDE INTERNA E PROVISÓRIA DE ÁGUA E ESGOTO TUBO PVC D= 150MM | G34: =IF(LEFT(D34,3)="CPU",VLOOKUP(B34,BASE!A:E,4,0),VLOOKUP(D34,BASE!A:E,4,0)) -> M | H34: =VLOOKUP($C34,'MEMÓRIA DE CÁLCULO'!$B:$M,12,0) -> 150 | I34: =IF(LEFT(D34,3)="CPU",VLOOKUP(B34,BASE!A:E,5,0),VLOOKUP(D34,BASE!A:E,5,0)) -> 48.17 | J34: =IFERROR(ROUND($H34*I34,2),"") -> 7225.5 | K34: =ROUND(I34*(1+$M$5),2) -> 59.08 | L34: =IFERROR(ROUND($H34*K34,2),"") -> 8862 | M34: =$M$5 -> 0.2265 | N34: =L34/$L$377 -> 0.00018852748 | P34: 8862
A35: 3 | B35: =D35 -> 01.07.02 | C35: =$C$32&"."&A35 -> 1.6.3 | D35: 01.07.02 | E35: =IF(LEFT(D35,3)="CPU",VLOOKUP(B35,BASE!A:E,2,0),VLOOKUP(D35,BASE!A:E,2,0)) -> SUDECAP | F35: =IF(LEFT(D35,3)="CPU",VLOOKUP(B35,BASE!A:E,3,0),VLOOKUP(D35,BASE!A:E,3,0)) -> FOSSA SÉPTICA E SUMIDOURO DN= 1,20M H= 4,00M | G35: =IF(LEFT(D35,3)="CPU",VLOOKUP(B35,BASE!A:E,4,0),VLOOKUP(D35,BASE!A:E,4,0)) -> UN | H35: =VLOOKUP($C35,'MEMÓRIA DE CÁLCULO'!$B:$M,12,0) -> 2 | I35: =IF(LEFT(D35,3)="CPU",VLOOKUP(B35,BASE!A:E,5,0),VLOOKUP(D35,BASE!A:E,5,0)) -> 5489.07 | J35: =IFERROR(ROUND($H35*I35,2),"") -> 10978.14 | K35: =ROUND(I35*(1+$M$5),2) -> 6732.34 | L35: =IFERROR(ROUND($H35*K35,2),"") -> 13464.68 | M35: =$M$5 -> 0.2265 | N35: =L35/$L$377 -> 0.00028644348 | P35: 13518.5
A36: 7 | B36: =D36 | C36: =$C$15&"."&A36 -> 1.7 | F36: =VLOOKUP($C36,'MEMÓRIA DE CÁLCULO'!$B:$M,4,0) -> CONTAINER | J36: =SUBTOTAL(9,J37:J48) -> 381344.17 | L36: =SUBTOTAL(9,L37:L48) -> 467718.9 | N36: =L36/$L$377 -> 0.0099501088 | P36: 496342.27
A37: 1 | B37: =D37 -> 01.09.01 | C37: =$C$36&"."&A37 -> 1.7.1 | D37: 01.09.01 | E37: =IF(LEFT(D37,3)="CPU",VLOOKUP(B37,BASE!A:E,2,0),VLOOKUP(D37,BASE!A:E,2,0)) -> SUDECAP | F37: =IF(LEFT(D37,3)="CPU",VLOOKUP(B37,BASE!A:E,3,0),VLOOKUP(D37,BASE!A:E,3,0)) -> MOBILIZAÇÃO DE CONTAINER | G37: =IF(LEFT(D37,3)="CPU",VLOOKUP(B37,BASE!A:E,4,0),VLOOKUP(D37,BASE!A:E,4,0)) -> UN | H37: =VLOOKUP($C37,'MEMÓRIA DE CÁLCULO'!$B:$M,12,0) -> 8 | I37: =IF(LEFT(D37,3)="CPU",VLOOKUP(B37,BASE!A:E,5,0),VLOOKUP(D37,BASE!A:E,5,0)) -> 1400 | J37: =IFERROR(ROUND($H37*I37,2),"") -> 11200 | K37: =ROUND(I37*(1+$M$5),2) -> 1717.1 | L37: =IFERROR(ROUND($H37*K37,2),"") -> 13736.8 | M37: =$M$5 -> 0.2265 | N37: =L37/$L$377 -> 0.00029223248 | P37: 11774.4
A38: 2 | B38: =D38 -> 01.09.03 | C38: =$C$36&"."&A38 -> 1.7.2 | D38: 01.09.03 | E38: =IF(LEFT(D38,3)="CPU",VLOOKUP(B38,BASE!A:E,2,0),VLOOKUP(D38,BASE!A:E,2,0)) -> SUDECAP | F38: =IF(LEFT(D38,3)="CPU",VLOOKUP(B38,BASE!A:E,3,0),VLOOKUP(D38,BASE!A:E,3,0)) -> CONTAINER COM SANITÁRIO E AR CONDICIONADO PARA ESCRITÓRIO | G38: =IF(LEFT(D38,3)="CPU",VLOOKUP(B38,BASE!A:E,4,0),VLOOKUP(D38,BASE!A:E,4,0)) -> MES | H38: =VLOOKUP($C38,'MEMÓRIA DE CÁLCULO'!$B:$M,12,0) -> 48 | I38: =IF(LEFT(D38,3)="CPU",VLOOKUP(B38,BASE!A:E,5,0),VLOOKUP(D38,BASE!A:E,5,0)) -> 1750 | J38: =IFERROR(ROUND($H38*I38,2),"") -> 84000 | K38: =ROUND(I38*(1+$M$5),2) -> 2146.38 | L38: =IFERROR(ROUND($H38*K38,2),"") -> 103026.24 | M38: =$M$5 -> 0.2265 | N38: =L38/$L$377 -> 0.0021917487 | P38: 132462.24
A39: 3 | B39: =D39 -> 01.09.19 | C39: =$C$36&"."&A39 -> 1.7.3 | D39: 01.09.19 | E39: =IF(LEFT(D39,3)="CPU",VLOOKUP(B39,BASE!A:E,2,0),VLOOKUP(D39,BASE!A:E,2,0)) -> SUDECAP | F39: =IF(LEFT(D39,3)="CPU",VLOOKUP(B39,BASE!A:E,3,0),VLOOKUP(D39,BASE!A:E,3,0)) -> CONTAINER VESTIÁRIO TIPO II | G39: =IF(LEFT(D39,3)="CPU",VLOOKUP(B39,BASE!A:E,4,0),VLOOKUP(D39,BASE!A:E,4,0)) -> MES | H39: =VLOOKUP($C39,'MEMÓRIA DE CÁLCULO'!$B:$M,12,0) -> 72 | I39: =IF(LEFT(D39,3)="CPU",VLOOKUP(B39,BASE!A:E,5,0),VLOOKUP(D39,BASE!A:E,5,0)) -> 2400 | J39: =IFERROR(ROUND($H39*I39,2),"") -> 172800 | K39: =ROUND(I39*(1+$M$5),2) -> 2943.6 | L39: =IFERROR(ROUND($H39*K39,2),"") -> 211939.2 | M39: =$M$5 -> 0.2265 | N39: =L39/$L$377 -> 0.0045087297 | P39: 214588.8
A40: 4 | B40: =D40 -> 01.09.21 | C40: =$C$36&"."&A40 -> 1.7.4 | D40: 01.09.21 | E40: =IF(LEFT(D40,3)="CPU",VLOOKUP(B40,BASE!A:E,2,0),VLOOKUP(D40,BASE!A:E,2,0)) -> SUDECAP | F40: =IF(LEFT(D40,3)="CPU",VLOOKUP(B40,BASE!A:E,3,0),VLOOKUP(D40,BASE!A:E,3,0)) -> CONTAINER SIMPLES | G40: =IF(LEFT(D40,3)="CPU",VLOOKUP(B40,BASE!A:E,4,0),VLOOKUP(D40,BASE!A:E,4,0)) -> MES | H40: =VLOOKUP($C40,'MEMÓRIA DE CÁLCULO'!$B:$M,12,0) -> 72 | I40: =IF(LEFT(D40,3)="CPU",VLOOKUP(B40,BASE!A:E,5,0),VLOOKUP(D40,BASE!A:E,5,0)) -> 1000 | J40: =IFERROR(ROUND($H40*I40,2),"") -> 72000 | K40: =ROUND(I40*(1+$M$5),2) -> 1226.5 | L40: =IFERROR(ROUND($H40*K40,2),"") -> 88308 | M40: =$M$5 -> 0.2265 | N40: =L40/$L$377 -> 0.0018786374 | P40: 88308
A41: 5 | B41: =D41 -> 01.02.40 | C41: =$C$36&"."&A41 -> 1.7.5 | D41: 01.02.40 | E41: =IF(LEFT(D41,3)="CPU",VLOOKUP(B41,BASE!A:E,2,0),VLOOKUP(D41,BASE!A:E,2,0)) -> SUDECAP | F41: =IF(LEFT(D41,3)="CPU",VLOOKUP(B41,BASE!A:E,3,0),VLOOKUP(D41,BASE!A:E,3,0)) -> REFEITÓRIO - ATÉ 19M2 | G41: =IF(LEFT(D41,3)="CPU",VLOOKUP(B41,BASE!A:E,4,0),VLOOKUP(D41,BASE!A:E,4,0)) -> M2 | H41: =VLOOKUP($C41,'MEMÓRIA DE CÁLCULO'!$B:$M,12,0) -> 38 | I41: =IF(LEFT(D41,3)="CPU",VLOOKUP(B41,BASE!A:E,5,0),VLOOKUP(D41,BASE!A:E,5,0)) -> 459.51 | J41: =IFERROR(ROUND($H41*I41,2),"") -> 17461.38 | K41: =ROUND(I41*(1+$M$5),2) -> 563.59 | L41: =IFERROR(ROUND($H41*K41,2),"") -> 21416.42 | M41: =$M$5 -> 0.2265 | N41: =L41/$L$377 -> 0.00045560637 | P41: 21731.06
A42: 6 | B42: =D42 -> 01.09.11 | C42: =$C$36&"."&A42 -> 1.7.6 | D42: 01.09.11 | E42: =IF(LEFT(D42,3)="CPU",VLOOKUP(B42,BASE!A:E,2,0),VLOOKUP(D42,BASE!A:E,2,0)) -> SUDECAP | F42: =IF(LEFT(D42,3)="CPU",VLOOKUP(B42,BASE!A:E,3,0),VLOOKUP(D42,BASE!A:E,3,0)) -> DESMOBILIZAÇÃO DE CONTAINER | G42: =IF(LEFT(D42,3)="CPU",VLOOKUP(B42,BASE!A:E,4,0),VLOOKUP(D42,BASE!A:E,4,0)) -> UN | H42: =VLOOKUP($C42,'MEMÓRIA DE CÁLCULO'!$B:$M,12,0) -> 8 | I42: =IF(LEFT(D42,3)="CPU",VLOOKUP(B42,BASE!A:E,5,0),VLOOKUP(D42,BASE!A:E,5,0)) -> 1400 | J42: =IFERROR(ROUND($H42*I42,2),"") -> 11200 | K42: =ROUND(I42*(1+$M$5),2) -> 1717.1 | L42: =IFERROR(ROUND($H42*K42,2),"") -> 13736.8 | M42: =$M$5 -> 0.2265 | N42: =L42/$L$377 -> 0.00029223248 | P42: 11774.4
...

Sheet MEMÓRIA DE CÁLCULO
B3: MEMÓRIA DE CÁLCULO
B5: ='PLANILHA ORÇAMENTÁRIA'!C5 -> Município: PREFEITURA MUNICIPAL DE NOVA LIMA - MG | K5: DATA: | L5: BDI: | M5: ='COMP. BDI'!N3 -> 0.2265
B6: ='PLANILHA ORÇAMENTÁRIA'!C6 -> Projeto: ENTRONCAMENTO DA MG-030 x BR-356 – VIADUTO FERRADURA | K6: =TODAY() -> 46092 | L6: LS:
B7: ITEM | C7: CÓDIGO | D7: ÓRGÃO | E7: DESCRIÇÃO | F7: UNIDADE | G7: QUANTIDADE | H7: COMPRIMENTO | I7: LARGURA | J7: ALTURA | K7: ÁREA | L7: VOLUME | M7: QUANT. TOTAL DO SERVIÇO | T7: TX. APLICAÇÃO - 0,4 l/m²
B8: 1 | E8: CANTEIRO DE OBRA | P8: RECUPERAÇÃO | W8: DUPLICAÇÃO
A9: 1 | B9: =$B$8&"."&A9 -> 1.1 | E9: INSTALAÇÃO DA OBRA | P9: FRESAGEM: | Q9: 5 Cm | R9: 2Cm | T9: Pintura de Ligação | U9: CBUQ Fx B | V9: CBUQ Fx C | W9: DUPLICAÇÃO | X9: 5 Cm | Z9: Pintura de Ligação | AA9: CBUQ Fx B | AB9: CBUQ Fx C | AC9: Bota Fora/Aterro | AD9: Usina | AE9: Pedreira
A10: 1 | B10: =$B$9&"."&A10 -> 1.1.1 | C10: =VLOOKUP($B10,'PLANILHA ORÇAMENTÁRIA'!$C:$M,2,0) -> 01.01.21 | D10: =VLOOKUP($B10,'PLANILHA ORÇAMENTÁRIA'!$C:$M,3,0) -> SUDECAP | E10: =VLOOKUP($B10,'PLANILHA ORÇAMENTÁRIA'!$C:$M,4,0) -> ESCRITÓRIO DA CONTRATADA - ATÉ 22M2 | F10: =VLOOKUP($B10,'PLANILHA ORÇAMENTÁRIA'!$C:$M,5,0) -> M2 | G10: Qnt | H10: C (m) | I10: L (m) | J10: H (m) | K10: A (m2) | L10: V (m3) | M10: =M11 -> 30 | P10: Lote 1 - Evento 1 | Q10: 1039.14 | R10: 8433.76 | T10: 8433.76 | U10: 757.83 | V10: 457.65 | W10: Lote 1 - Evento 1 | X10: 1039.14 | Z10: 8433.76 | AB10: 457.65 | AC10: 15 | AD10: 40 | AE10: 26
E11: Escritório da FiscalizaçãoTipo I: Considerando 2 unidades de frente, sentido a BH-RJ (BR-356) e outra em NL-BH (MG-030) | G11: 2 | K11: 15 | M11: =G11*K11 -> 30 | P11: Lote 1 - Evento 2 | Q11: 1288.39 | R11: 7040.48 | T11: 7040.48 | U11: 666.31 | V11: 395.44 | W11: Lote 1 - Evento 2 | X11: 1288.39 | Z11: 7040.48 | AB11: 395.44
P12: Lote 1 - Evento 3 | Q12: 733.33 | R12: 4192.77 | T12: 4192.77 | U12: 373.87 | V12: 226.4
A13: 2 | B13: =$B$8&"."&A13 -> 1.2 | E13: BARRACAO DE OBRA | P13: Lote 1 - Evento 4 | Q13: 606.54 | R13: 4808.71 | T13: 4808.71 | U13: 409.22 | V13: 263.47
A14: 1 | B14: =$B$13&"."&A14 -> 1.2.1 | C14: =VLOOKUP($B14,'PLANILHA ORÇAMENTÁRIA'!$C:$M,2,0) -> 01.02.10 | D14: =VLOOKUP($B14,'PLANILHA ORÇAMENTÁRIA'!$C:$M,3,0) -> SUDECAP | E14: =VLOOKUP($B14,'PLANILHA ORÇAMENTÁRIA'!$C:$M,4,0) -> ÁREA COBERTA EM TELHA DE FIBROCIMENTO | F14: =VLOOKUP($B14,'PLANILHA ORÇAMENTÁRIA'!$C:$M,5,0) -> M2 | G14: Qnt | H14: C (m) | I14: L (m) | J14: H (m) | K14: A (m2) | L14: V (m3) | M14: =K15 -> 240
E15: Considerando áreas diversas que serão executadas ao longo de cada frente de atividade | K15: =40*6 -> 240
A17: 2 | B17: =$B$13&"."&A17 -> 1.2.2 | C17: =VLOOKUP($B17,'PLANILHA ORÇAMENTÁRIA'!$C:$M,2,0) -> ED-50129 | D17: =VLOOKUP($B17,'PLANILHA ORÇAMENTÁRIA'!$C:$M,3,0) -> SEINFRA-MG | E17: =VLOOKUP($B17,'PLANILHA ORÇAMENTÁRIA'!$C:$M,4,0) -> BARRACÃO DE OBRA PARA DEPÓSITO E FERRAMENTARIA TIPO-II, ÁREA INTERNA 25,41M2, EM CHAPA DE COMPENSADO RESINADO, INCLUSIVE MOBILIÁRIO (OBRA DE MÉDIO PORTE, EFETIVO DE 30 A 60 HOMENS), PADRÃO DER-MG | F17: =VLOOKUP($B17,'PLANILHA ORÇAMENTÁRIA'!$C:$M,5,0) -> UN | G17: Qnt | H17: C (m) | I17: L (m) | J17: H (m) | K17: A (m2) | L17: V (m3) | M17: =G18 -> 2
E18: Considerando 2 unidades, sendo uma para cada frente de atividade - (Sentido-BH-RJ (BR-356) e outra NL-BH (MG-030)) | G18: 2
A20: 3 | B20: =$B$8&"."&A20 -> 1.3 | E20: PLACA DE OBRA
A21: 1 | B21: =$B$20&"."&A21 -> 1.3.1 | C21: =VLOOKUP($B21,'PLANILHA ORÇAMENTÁRIA'!$C:$M,2,0) -> ED-16660 | D21: =VLOOKUP($B21,'PLANILHA ORÇAMENTÁRIA'!$C:$M,3,0) -> SEINFRA-MG | E21: =VLOOKUP($B21,'PLANILHA ORÇAMENTÁRIA'!$C:$M,4,0) -> FORNECIMENTO E COLOCAÇÃO DE PLACA DE OBRA EM CHAPA GALVANIZADA #26, ESP. 0,45 MM, PLOTADA COM ADESIVO VINÍLICO, AFIXADA COM REBITES 4,8X40 MM, EM ESTRUTURA METÁLICA DE METALON 20X20 MM, ESP. 1,25 MM, INCLUSIVE SUPORTE EM EUCALIPTO AUTOCLAVADO PINTADO COM TINTA PVA DUAS (2) DEMÃOS | F21: =VLOOKUP($B21,'PLANILHA ORÇAMENTÁRIA'!$C:$M,5,0) -> M2 | G21: Qnt | H21: C (m) | I21: L (m) | J21: H (m) | K21: A (m2) | L21: V (m3) | M21: =M22 -> 40
E22: Considerando 2 unidades de frente: em direção a BH-RJ (BR-356), RJ-BH (BR-356), outras em direção a BH-NL (MG-030), NL-BH (MG-030) e em alça do RJ-NL. Placas com dimensões de 2,00x4,00m | G22: 5 | H22: 2 | J22: 4 | K22: =H22*J22 -> 8 | M22: =K22*G22 -> 40
A24: 4 | B24: =$B$8&"."&A24 -> 1.4 | E24: TAPUME
A25: 1 | B25: =$B$24&"."&A25 -> 1.4.1 | C25: =VLOOKUP($B25,'PLANILHA ORÇAMENTÁRIA'!$C:$M,2,0) -> 01.04.01 | D25: =VLOOKUP($B25,'PLANILHA ORÇAMENTÁRIA'!$C:$M,3,0) -> SUDECAP | E25: =VLOOKUP($B25,'PLANILHA ORÇAMENTÁRIA'!$C:$M,4,0) -> TAPUME PADRÃO SUDECAP, DE COMPENSADO 10MM, COM FIXAÇÃO ENTERRADA | F25: =VLOOKUP($B25,'PLANILHA ORÇAMENTÁRIA'!$C:$M,5,0) -> M | G25: Qnt | H25: C (m) | I25: L (m) | J25: H (m) | K25: A (m2) | L25: V (m3) | M25: =H26 -> 500
E26: Itens para Fechamento e Proteção | H26: 500
A28: 2 | B28: =$B$24&"."&A28 -> 1.4.2 | C28: =VLOOKUP($B28,'PLANILHA ORÇAMENTÁRIA'!$C:$M,2,0) -> 01.04.09 | D28: =VLOOKUP($B28,'PLANILHA ORÇAMENTÁRIA'!$C:$M,3,0) -> SUDECAP | E28: =VLOOKUP($B28,'PLANILHA ORÇAMENTÁRIA'!$C:$M,4,0) -> TELA - TAPUME DE POLIPROPILENO H=1,20 M, INCLUSIVE BASE | F28: =VLOOKUP($B28,'PLANILHA ORÇAMENTÁRIA'!$C:$M,5,0) -> M | G28: Qnt | H28: C (m) | I28: L (m) | J28: H (m) | K28: A (m2) | L28: V (m3) | M28: =H29 -> 950
E29: Itens para Fechamento e Proteção | H29: 950
A31: 3 | B31: =$B$24&"."&A31 -> 1.4.3 | C31: =VLOOKUP($B31,'PLANILHA ORÇAMENTÁRIA'!$C:$M,2,0) -> 01.04.10 | D31: =VLOOKUP($B31,'PLANILHA ORÇAMENTÁRIA'!$C:$M,3,0) -> SUDECAP | E31: =VLOOKUP($B31,'PLANILHA ORÇAMENTÁRIA'!$C:$M,4,0) -> PROTEÇAO COM FITA ZEBRADA AMARELA L=7CM E PEÇA 7X7 | F31: =VLOOKUP($B31,'PLANILHA ORÇAMENTÁRIA'!$C:$M,5,0) -> M | G31: Qnt | H31: C (m) | I31: L (m) | J31: H (m) | K31: A (m2) | L31: V (m3) | M31: =H32 -> 1000
E32: Itens para Fechamento e Proteção | H32: 1000
A34: 4 | B34: =$B$24&"."&A34 -> 1.4.4 | C34: =VLOOKUP($B34,'PLANILHA ORÇAMENTÁRIA'!$C:$M,2,0) -> 01.04.19 | D34: =VLOOKUP($B34,'PLANILHA ORÇAMENTÁRIA'!$C:$M,3,0) -> SUDECAP | E34: =VLOOKUP($B34,'PLANILHA ORÇAMENTÁRIA'!$C:$M,4,0) -> TAPUME METÁLICO COM TELA E BASE ENTERRADA (M) | F34: =VLOOKUP($B34,'PLANILHA ORÇAMENTÁRIA'!$C:$M,5,0) -> M | G34: Qnt | H34: C (m) | I34: L (m) | J34: H (m) | K34: A (m2) | L34: V (m3) | M34: =H37 -> 550
E35: Itens para Fechamento e Proteção - Canteiros fixos: Sentindo - BH-RJ (BR-356) | H35: 200
E36: Sentindo - NL-BH (MG-030) | H36: 350
E37: Comprimento total do tapume: | H37: =SUM(H35:H36) -> 550
A39: 5 | B39: =$B$24&"."&A39 -> 1.4.5 | C39: =VLOOKUP($B39,'PLANILHA ORÇAMENTÁRIA'!$C:$M,2,0) -> 01.04.20 | D39: =VLOOKUP($B39,'PLANILHA ORÇAMENTÁRIA'!$C:$M,3,0) -> SUDECAP | E39: =VLOOKUP($B39,'PLANILHA ORÇAMENTÁRIA'!$C:$M,4,0) -> REMANEJAMENTO DE TAPUME | F39: =VLOOKUP($B39,'PLANILHA ORÇAMENTÁRIA'!$C:$M,5,0) -> M | G39: Qnt | H39: C (m) | I39: L (m) | J39: H (m) | K39: A (m2) | L39: V (m3) | M39: =H40 -> 350
E40: Itens para Fechamento e Proteção | H40: =H36 -> 350
A42: 5 | B42: =$B$8&"."&A42 -> 1.5 | E42: INSTALAÇÃO PROVISÓRIA- CONCESSIONÁRIA
A43: 1 | B43: =$B$42&"."&A43 -> 1.5.1 | C43: =VLOOKUP($B43,'PLANILHA ORÇAMENTÁRIA'!$C:$M,2,0) -> 01.06.01 | D43: =VLOOKUP($B43,'PLANILHA ORÇAMENTÁRIA'!$C:$M,3,0) -> SUDECAP | E43: =VLOOKUP($B43,'PLANILHA ORÇAMENTÁRIA'!$C:$M,4,0) -> PADRÃO CEMIG PROVISÓRIO TIPO C3, DEMANDA PROVÁVEL DE 23,1 ATÉ 27,0KW (3F+N) | F43: =VLOOKUP($B43,'PLANILHA ORÇAMENTÁRIA'!$C:$M,5,0) -> UN | G43: Qnt | H43: C (m) | I43: L (m) | J43: H (m) | K43: A (m2) | L43: V (m3) | M43: =G44 -> 2
E44: Ligação no Canteiro | G44: 2
A46: 2 | B46: =$B$42&"."&A46 -> 1.5.2 | C46: =VLOOKUP($B46,'PLANILHA ORÇAMENTÁRIA'!$C:$M,2,0) -> 01.06.05 | D46: =VLOOKUP($B46,'PLANILHA ORÇAMENTÁRIA'!$C:$M,3,0) -> SUDECAP | E46: =VLOOKUP($B46,'PLANILHA ORÇAMENTÁRIA'!$C:$M,4,0) -> PADRÃO COPASA - KIT CAVALETE METAL E REGISTRO 3/4" | F46: =VLOOKUP($B46,'PLANILHA ORÇAMENTÁRIA'!$C:$M,5,0) -> UN | G46: Qnt | H46: C (m) | I46: L (m) | J46: H (m) | K46: A (m2) | L46: V (m3) | M46: =G47 -> 2
E47: Ligação no Canteiro | G47: 2
A49: 6 | B49: =$B$8&"."&A49 -> 1.6 | E49: REDE INTERNA E PROVISÓRIA DE ÁGUA E ESGOTO
A50: 1 | B50: =$B$49&"."&A50 -> 1.6.1 | C50: =VLOOKUP($B50,'PLANILHA ORÇAMENTÁRIA'!$C:$M,2,0) -> 01.08.01 | D50: =VLOOKUP($B50,'PLANILHA ORÇAMENTÁRIA'!$C:$M,3,0) -> SUDECAP | E50: =VLOOKUP($B50,'PLANILHA ORÇAMENTÁRIA'!$C:$M,4,0) -> REDE INTERNA E PROVISÓRIA DE ÁGUA E ESGOTO TUBO PVC D= 100MM | F50: =VLOOKUP($B50,'PLANILHA ORÇAMENTÁRIA'!$C:$M,5,0) -> M | G50: Qnt | H50: C (m) | I50: L (m) | J50: H (m) | K50: A (m2) | L50: V (m3) | M50: =H51 -> 150
E51: Ligação no Canteiro | H51: 150
A53: 2 | B53: =$B$49&"."&A53 -> 1.6.2 | C53: =VLOOKUP($B53,'PLANILHA ORÇAMENTÁRIA'!$C:$M,2,0) -> 01.08.02 | D53: =VLOOKUP($B53,'PLANILHA ORÇAMENTÁRIA'!$C:$M,3,0) -> SUDECAP | E53: =VLOOKUP($B53,'PLANILHA ORÇAMENTÁRIA'!$C:$M,4,0) -> REDE INTERNA E PROVISÓRIA DE ÁGUA E ESGOTO TUBO PVC D= 150MM | F53: =VLOOKUP($B53,'PLANILHA ORÇAMENTÁRIA'!$C:$M,5,0) -> M | G53: Qnt | H53: C (m) | I53: L (m) | J53: H (m) | K53: A (m2) | L53: V (m3) | M53: =H54 -> 150
E54: Ligação no Canteiro | H54: 150
...

Sheet CRONOGRAMA
B3: CRONOGRAMA FÍSICO E FINANCEIRO
B4: ='PLANILHA ORÇAMENTÁRIA'!C5 -> Município: PREFEITURA MUNICIPAL DE NOVA LIMA - MG
B5: ='PLANILHA ORÇAMENTÁRIA'!C6 -> Projeto: ENTRONCAMENTO DA MG-030 x BR-356 – VIADUTO FERRADURA
B6: ='PLANILHA ORÇAMENTÁRIA'!C7 -> Responsável Técnico: SINVAL LADEIRA
B7: ='PLANILHA ORÇAMENTÁRIA'!C8 -> Nº CREA: 28498/D
B8: ='PLANILHA ORÇAMENTÁRIA'!C9 -> DATA: | C8: =RESUMO!D9 -> 46092
D9: CRONOGRAMA
B10: Item | C10: Descrição | D10: Valor dos Serviços | F10: 1 | H10: 2 | J10: 3 | L10: 4 | N10: 5 | P10: 6 | R10: 7 | T10: 8 | V10: 9 | X10: 10 | Z10: 11 | AB10: 12 | AD10: 13 | AF10: 14 | AH10: 15 | AJ10: 16 | AL10: 17 | AN10: 18 | AP10: 19 | AR10: 20 | AT10: 21 | AV10: 22 | AX10: 23 | AZ10: 24
C11: Grandes Itens (Etapas da obra) | D11: R$ | E11: Peso % | F11: R$ | G11: Peso % | H11: R$ | I11: Peso % | J11: R$ | K11: Peso % | L11: R$ | M11: Peso % | N11: R$ | O11: Peso % | P11: R$ | Q11: Peso % | R11: R$ | S11: Peso % | T11: R$ | U11: Peso % | V11: R$ | W11: Peso % | X11: R$ | Y11: Peso % | Z11: R$ | AA11: Peso % | AB11: R$ | AC11: Peso % | AD11: R$ | AE11: Peso % | AF11: R$ | AG11: Peso % | AH11: R$ | AI11: Peso % | AJ11: R$ | AK11: Peso % | AL11: R$ | AM11: Peso % | AN11: R$ | AO11: Peso % | AP11: R$ | AQ11: Peso % | AR11: R$ | AS11: Peso % | AT11: R$ | AU11: Peso % | AV11: R$ | AW11: Peso % | AX11: R$ | AY11: Peso % | AZ11: R$ | BA11: Peso %
B12: 1 | C12: =VLOOKUP(B12,'PLANILHA ORÇAMENTÁRIA'!C:M,4,0) -> CANTEIRO DE OBRA | D12: =VLOOKUP(B12,'PLANILHA ORÇAMENTÁRIA'!C:M,10,0) -> 2742382.5 | E12: =IFERROR(D12/$D$31,"") -> 0.058340606 | F12: =G12*D12 -> 11243.768 | G12: 0.0041 | H12: =I12*D12 -> 25504.157 | I12: 0.0093 | J12: =K12*D12 -> 39216.07 | K12: 0.0143 | L12: =M12*D12 -> 57590.033 | M12: 0.021 | N12: =O12*D12 -> 77883.663 | O12: 0.0284 | P12: =Q12*D12 -> 97903.055 | Q12: 0.0357 | R12: =S12*D12 -> 118196.69 | S12: 0.0431 | T12: =U12*D12 -> 132457.07 | U12: 0.0483 | V12: =W12*D12 -> 149459.85 | W12: 0.0545 | X12: =Y12*D12 -> 162897.52 | Y12: 0.0594 | Z12: =AA12*D12 -> 173044.34 | AA12: 0.0631 | AB12: =AC12*D12 -> 183191.15 | AC12: 0.0668 | AD12: =AE12*D12 -> 192789.49 | AE12: 0.0703 | AF12: =AG12*D12 -> 195257.63 | AG12: 0.0712 | AH12: =AI12*D12 -> 194983.4 | AI12: 0.0711 | AJ12: =AK12*D12 -> 188950.15 | AK12: 0.0689 | AL12: =AM12*D12 -> 178529.1 | AM12: 0.0651 | AN12: =AO12*D12 -> 163720.24 | AO12: 0.0597 | AP12: =AQ12*D12 -> 139313.03 | AQ12: 0.0508 | AR12: =AS12*D12 -> 110518.01 | AS12: 0.0403 | AT12: =AU12*D12 -> 77335.187 | AU12: 0.0282 | AV12: =AW12*D12 -> 44700.835 | AW12: 0.0163 | AX12: =AY12*D12 -> 21939.06 | AY12: 0.008 | AZ12: =BA12*D12 -> 5759.0033 | BA12: 0.0021 | BB12: =IF(SUM(AC12,AA12,Y12,W12,U12,S12,Q12,O12,M12,K12,I12,G12,BA12,AY12,AW12,AU12,AS12,AQ12,AO12,AM12,AK12,AI12,AG12,AE12)=100%,"","Rever")
B13: 2 | C13: =VLOOKUP(B13,'PLANILHA ORÇAMENTÁRIA'!C:M,4,0) -> DEMOLIÇÕES E REMOÇÕES | D13: =VLOOKUP(B13,'PLANILHA ORÇAMENTÁRIA'!C:M,10,0) -> 81844.89 | E13: =IFERROR(D13/$D$31,"") -> 0.0017411432 | F13: =G13*D13 -> 3985.8461 | G13: 0.0487 | H13: =I13*D13 -> 12792.356 | I13: 0.1563 | J13: =K13*D13 -> 19937.415 | K13: 0.2436 | L13: =M13*D13 -> 0 | N13: =O13*D13 -> 0 | P13: =Q13*D13 -> 0 | R13: =S13*D13 -> 0 | T13: =U13*D13 -> 0 | V13: =W13*D13 -> 0 | X13: =Y13*D13 -> 0 | Z13: =AA13*D13 -> 0 | AB13: =AC13*D13 -> 0 | AD13: =AE13*D13 -> 23039.337 | AE13: 0.2815 | AF13: =AG13*D13 -> 17621.205 | AG13: 0.2153 | AH13: =AI13*D13 -> 4468.731 | AI13: 0.0546 | AJ13: =AK13*D13 -> 0 | AL13: =AM13*D13 -> 0 | AN13: =AO13*D13 -> 0 | AP13: =AQ13*D13 -> 0 | AR13: =AS13*D13 -> 0 | AT13: =AU13*D13 -> 0 | AV13: =AW13*D13 -> 0 | AX13: =AY13*D13 -> 0 | AZ13: =BA13*D13 -> 0 | BB13: =IF(SUM(AC13,AA13,Y13,W13,U13,S13,Q13,O13,M13,K13,I13,G13,BA13,AY13,AW13,AU13,AS13,AQ13,AO13,AM13,AK13,AI13,AG13,AE13)=100%,"","Rever")
B14: 3 | C14: =VLOOKUP(B14,'PLANILHA ORÇAMENTÁRIA'!C:M,4,0) -> TERRAPLENAGEM | D14: =VLOOKUP(B14,'PLANILHA ORÇAMENTÁRIA'!C:M,10,0) -> 1054710.5 | E14: =IFERROR(D14/$D$31,"") -> 0.022437589 | F14: =G14*D14 -> 0 | H14: =I14*D14 -> 14133.121 | I14: 0.0134 | J14: =K14*D14 -> 37231.281 | K14: 0.0353 | L14: =M14*D14 -> 67817.886 | M14: 0.0643 | N14: =O14*D14 -> 96822.426 | O14: 0.0918 | P14: =Q14*D14 -> 120131.53 | Q14: 0.1139 | R14: =S14*D14 -> 137006.9 | S14: 0.1299 | T14: =U14*D14 -> 0 | V14: =W14*D14 -> 0 | X14: =Y14*D14 -> 0 | Z14: =AA14*D14 -> 0 | AB14: =AC14*D14 -> 0 | AD14: =AE14*D14 -> 149241.54 | AE14: 0.1415 | AF14: =AG14*D14 -> 147659.47 | AG14: 0.14 | AH14: =AI14*D14 -> 130995.05 | AI14: 0.1242 | AJ14: =AK14*D14 -> 96084.128 | AK14: 0.0911 | AL14: =AM14*D14 -> 46934.618 | AM14: 0.0445 | AN14: =AO14*D14 -> 10652.576 | AO14: 0.0101 | AP14: =AQ14*D14 -> 0 | AR14: =AS14*D14 -> 0 | AT14: =AU14*D14 -> 0 | AV14: =AW14*D14 -> 0 | AX14: =AY14*D14 -> 0 | AZ14: =BA14*D14 -> 0 | BB14: =IF(SUM(AC14,AA14,Y14,W14,U14,S14,Q14,O14,M14,K14,I14,G14,BA14,AY14,AW14,AU14,AS14,AQ14,AO14,AM14,AK14,AI14,AG14,AE14)=100%,"","Rever")
B15: 4 | C15: =VLOOKUP(B15,'PLANILHA ORÇAMENTÁRIA'!C:M,4,0) -> CONTENÇÕES | D15: =VLOOKUP(B15,'PLANILHA ORÇAMENTÁRIA'!C:M,10,0) -> 3011973 | E15: =IFERROR(D15/$D$31,"") -> 0.064075791 | F15: =G15*D15 -> 0 | H15: =I15*D15 -> 0 | J15: =K15*D15 -> 40360.438 | K15: 0.0134 | L15: =M15*D15 -> 106322.65 | M15: 0.0353 | N15: =O15*D15 -> 193669.86 | O15: 0.0643 | P15: =Q15*D15 -> 276499.12 | Q15: 0.0918 | R15: =S15*D15 -> 343063.72 | S15: 0.1139 | T15: =U15*D15 -> 391255.29 | U15: 0.1299 | V15: =W15*D15 -> 426194.17 | W15: 0.1415 | X15: =Y15*D15 -> 421676.21 | Y15: 0.14 | Z15: =AA15*D15 -> 374087.04 | AA15: 0.1242 | AB15: =AC15*D15 -> 274390.74 | AC15: 0.0911 | AD15: =AE15*D15 -> 134032.8 | AE15: 0.0445 | AF15: =AG15*D15 -> 30420.927 | AG15: 0.0101 | AH15: =AI15*D15 -> 0 | AJ15: =AK15*D15 -> 0 | AL15: =AM15*D15 -> 0 | AN15: =AO15*D15 -> 0 | AP15: =AQ15*D15 -> 0 | AR15: =AS15*D15 -> 0 | AT15: =AU15*D15 -> 0 | AV15: =AW15*D15 -> 0 | AX15: =AY15*D15 -> 0 | AZ15: =BA15*D15 -> 0 | BB15: =IF(SUM(AC15,AA15,Y15,W15,U15,S15,Q15,O15,M15,K15,I15,G15,BA15,AY15,AW15,AU15,AS15,AQ15,AO15,AM15,AK15,AI15,AG15,AE15)=100%,"","Rever")
B16: 5 | C16: =VLOOKUP(B16,'PLANILHA ORÇAMENTÁRIA'!C:M,4,0) -> ESTRUTURAL DO VIADUTO | D16: =VLOOKUP(B16,'PLANILHA ORÇAMENTÁRIA'!C:M,10,0) -> 22329475 | E16: =IFERROR(D16/$D$31,"") -> 0.47503042 | F16: =G16*D16 -> 0 | H16: =I16*D16 -> 0 | J16: =K16*D16 -> 0 | L16: =M16*D16 -> 180868.75 | M16: 0.0081 | N16: =O16*D16 -> 437657.71 | O16: 0.0196 | P16: =Q16*D16 -> 765900.99 | Q16: 0.0343 | R16: =S16*D16 -> 1134337.3 | S16: 0.0508 | T16: =U16*D16 -> 1493841.9 | U16: 0.0669 | V16: =W16*D16 -> 1777426.2 | W16: 0.0796 | X16: =Y16*D16 -> 2020817.5 | Y16: 0.0905 | Z16: =AA16*D16 -> 2206152.1 | AA16: 0.0988 | AB16: =AC16*D16 -> 2364691.4 | AC16: 0.1059 | AD16: =AE16*D16 -> 2382555 | AE16: 0.1067 | AF16: =AG16*D16 -> 2279839.4 | AG16: 0.1021 | AH16: =AI16*D16 -> 2031982.2 | AI16: 0.091 | AJ16: =AK16*D16 -> 1618886.9 | AK16: 0.0725 | AL16: =AM16*D16 -> 1045019.4 | AM16: 0.0468 | AN16: =AO16*D16 -> 471151.92 | AO16: 0.0211 | AP16: =AQ16*D16 -> 118346.22 | AQ16: 0.0053 | AR16: =AS16*D16 -> 0 | AT16: =AU16*D16 -> 0 | AV16: =AW16*D16 -> 0 | AX16: =AY16*D16 -> 0 | AZ16: =BA16*D16 -> 0 | BB16: =IF(SUM(AC16,AA16,Y16,W16,U16,S16,Q16,O16,M16,K16,I16,G16,BA16,AY16,AW16,AU16,AS16,AQ16,AO16,AM16,AK16,AI16,AG16,AE16)=100%,"","Rever")
B17: 6 | C17: =VLOOKUP(B17,'PLANILHA ORÇAMENTÁRIA'!C:M,4,0) -> PAVIMENTAÇÃO | D17: =VLOOKUP(B17,'PLANILHA ORÇAMENTÁRIA'!C:M,10,0) -> 1569815.7 | E17: =IFERROR(D17/$D$31,"") -> 0.033395778 | F17: =G17*D17 -> 0 | H17: =I17*D17 -> 0 | J17: =K17*D17 -> 0 | L17: =M17*D17 -> 0 | N17: =O17*D17 -> 0 | P17: =Q17*D17 -> 0 | R17: =S17*D17 -> 0 | T17: =U17*D17 -> 0 | V17: =W17*D17 -> 0 | X17: =Y17*D17 -> 0 | Z17: =AA17*D17 -> 0 | AB17: =AC17*D17 -> 28256.682 | AC17: 0.018 | AD17: =AE17*D17 -> 83200.23 | AE17: 0.053 | AF17: =AG17*D17 -> 147562.67 | AG17: 0.094 | AH17: =AI17*D17 -> 202506.22 | AI17: 0.129 | AJ17: =AK17*D17 -> 243321.43 | AK17: 0.155 | AL17: =AM17*D17 -> 266868.66 | AM17: 0.17 | AN17: =AO17*D17 -> 257449.77 | AO17: 0.164 | AP17: =AQ17*D17 -> 205645.85 | AQ17: 0.131 | AR17: =AS17*D17 -> 111456.91 | AS17: 0.071 | AT17: =AU17*D17 -> 23547.235 | AU17: 0.015 | AV17: =AW17*D17 -> 0 | AX17: =AY17*D17 -> 0 | AZ17: =BA17*D17 -> 0 | BB17: =IF(SUM(AC17,AA17,Y17,W17,U17,S17,Q17,O17,M17,K17,I17,G17,BA17,AY17,AW17,AU17,AS17,AQ17,AO17,AM17,AK17,AI17,AG17,AE17)=100%,"","Rever")
B18: 7 | C18: =VLOOKUP(B18,'PLANILHA ORÇAMENTÁRIA'!C:M,4,0) -> DRENAGEM PROFUNDA E SUPERFICIAL | D18: =VLOOKUP(B18,'PLANILHA ORÇAMENTÁRIA'!C:M,10,0) -> 1179990.8 | E18: =IFERROR(D18/$D$31,"") -> 0.025102762 | F18: =G18*D18 -> 0 | H18: =I18*D18 -> 0 | J18: =K18*D18 -> 3775.9704 | K18: 0.0032 | L18: =M18*D18 -> 14277.888 | M18: 0.0121 | N18: =O18*D18 -> 31269.755 | O18: 0.0265 | P18: =Q18*D18 -> 51919.593 | Q18: 0.044 | R18: =S18*D18 -> 70681.447 | S18: 0.0599 | T18: =U18*D18 -> 84605.337 | U18: 0.0717 | V18: =W18*D18 -> 94045.264 | W18: 0.0797 | X18: =Y18*D18 -> 99237.223 | Y18: 0.0841 | Z18: =AA18*D18 -> 101125.21 | AA18: 0.0857 | AB18: =AC18*D18 -> 99709.219 | AC18: 0.0845 | AD18: =AE18*D18 -> 94045.264 | AE18: 0.0797 | AF18: =AG18*D18 -> 87909.312 | AG18: 0.0745 | AH18: =AI18*D18 -> 80829.367 | AI18: 0.0685 | AJ18: =AK18*D18 -> 71625.439 | AK18: 0.0607 | AL18: =AM18*D18 -> 61831.516 | AM18: 0.0524 | AN18: =AO18*D18 -> 49559.612 | AO18: 0.042 | AP18: =AQ18*D18 -> 37051.71 | AQ18: 0.0314 | AR18: =AS18*D18 -> 24779.806 | AS18: 0.021 | AT18: =AU18*D18 -> 15221.881 | AU18: 0.0129 | AV18: =AW18*D18 -> 6489.9492 | AW18: 0.0055 | AX18: =AY18*D18 -> 0 | AZ18: =BA18*D18 -> 0 | BB18: =IF(SUM(AC18,AA18,Y18,W18,U18,S18,Q18,O18,M18,K18,I18,G18,BA18,AY18,AW18,AU18,AS18,AQ18,AO18,AM18,AK18,AI18,AG18,AE18)=100%,"","Rever")
B19: 8 | C19: =VLOOKUP(B19,'PLANILHA ORÇAMENTÁRIA'!C:M,4,0) -> SINALIZAÇÃO VIÁRIA | D19: =VLOOKUP(B19,'PLANILHA ORÇAMENTÁRIA'!C:M,10,0) -> 1021319.9 | E19: =IFERROR(D19/$D$31,"") -> 0.021727247 | F19: =G19*D19 -> 0 | H19: =I19*D19 -> 0 | J19: =K19*D19 -> 0 | L19: =M19*D19 -> 0 | N19: =O19*D19 -> 0 | P19: =Q19*D19 -> 0 | R19: =S19*D19 -> 0 | T19: =U19*D19 -> 0 | V19: =W19*D19 -> 0 | X19: =Y19*D19 -> 0 | Z19: =AA19*D19 -> 0 | AB19: =AC19*D19 -> 0 | AD19: =AE19*D19 -> 13685.686 | AE19: 0.0134 | AF19: =AG19*D19 -> 36052.591 | AG19: 0.0353 | AH19: =AI19*D19 -> 65670.868 | AI19: 0.0643 | AJ19: =AK19*D19 -> 93757.164 | AK19: 0.0918 | AL19: =AM19*D19 -> 116328.33 | AM19: 0.1139 | AN19: =AO19*D19 -> 132669.45 | AO19: 0.1299 | AP19: =AQ19*D19 -> 144516.76 | AQ19: 0.1415 | AR19: =AS19*D19 -> 142984.78 | AS19: 0.14 | AT19: =AU19*D19 -> 126847.93 | AU19: 0.1242 | AV19: =AW19*D19 -> 93042.24 | AW19: 0.0911 | AX19: =AY19*D19 -> 45448.734 | AY19: 0.0445 | AZ19: =BA19*D19 -> 10315.331 | BA19: 0.0101 | BB19: =IF(SUM(AC19,AA19,Y19,W19,U19,S19,Q19,O19,M19,K19,I19,G19,BA19,AY19,AW19,AU19,AS19,AQ19,AO19,AM19,AK19,AI19,AG19,AE19)=100%,"","Rever")
B20: 9 | C20: =VLOOKUP(B20,'PLANILHA ORÇAMENTÁRIA'!C:M,4,0) -> SERVIÇOS TÉCNICOS E DE APOIO | D20: =VLOOKUP(B20,'PLANILHA ORÇAMENTÁRIA'!C:M,10,0) -> 558711.96 | E20: =IFERROR(D20/$D$31,"") -> 0.011885867 | F20: =G20*D20 -> 0 | H20: =I20*D20 -> 2625.9462 | I20: 0.0047 | J20: =K20*D20 -> 6089.9604 | K20: 0.0109 | L20: =M20*D20 -> 9553.9745 | M20: 0.0171 | N20: =O20*D20 -> 14247.155 | O20: 0.0255 | P20: =Q20*D20 -> 19107.949 | Q20: 0.0342 | R20: =S20*D20 -> 24024.614 | S20: 0.043 | T20: =U20*D20 -> 28494.31 | U20: 0.051 | V20: =W20*D20 -> 32070.067 | W20: 0.0574 | X20: =Y20*D20 -> 35645.823 | Y20: 0.0638 | Z20: =AA20*D20 -> 38160.027 | AA20: 0.0683 | AB20: =AC20*D20 -> 40618.359 | AC20: 0.0727 | AD20: =AE20*D20 -> 42909.079 | AE20: 0.0768 | AF20: =AG20*D20 -> 43411.919 | AG20: 0.0777 | AH20: =AI20*D20 -> 43132.563 | AI20: 0.0772 | AJ20: =AK20*D20 -> 41344.685 | AK20: 0.074 | AL20: =AM20*D20 -> 38327.64 | AM20: 0.0686 | AN20: =AO20*D20 -> 33578.589 | AO20: 0.0601 | AP20: =AQ20*D20 -> 27488.628 | AQ20: 0.0492 | AR20: =AS20*D20 -> 19499.047 | AS20: 0.0349 | AT20: =AU20*D20 -> 11509.466 | AU20: 0.0206 | AV20: =AW20*D20 -> 5419.506 | AW20: 0.0097 | AX20: =AY20*D20 -> 1452.6511 | AY20: 0.0026 | AZ20: =BA20*D20 -> 0 | BB20: =IF(SUM(AC20,AA20,Y20,W20,U20,S20,Q20,O20,M20,K20,I20,G20,BA20,AY20,AW20,AU20,AS20,AQ20,AO20,AM20,AK20,AI20,AG20,AE20)=100%,"","Rever")
B21: 10 | C21: =VLOOKUP(B21,'PLANILHA ORÇAMENTÁRIA'!C:M,4,0) -> PLATAFORMA TELESCÓPICA | D21: =VLOOKUP(B21,'PLANILHA ORÇAMENTÁRIA'!C:M,10,0) -> 915829.2 | E21: =IFERROR(D21/$D$31,"") -> 0.01948307 | F21: =G21*D21 -> 0 | H21: =I21*D21 -> 0 | J21: =K21*D21 -> 5037.0606 | K21: 0.0055 | L21: =M21*D21 -> 11814.197 | M21: 0.0129 | N21: =O21*D21 -> 19232.413 | O21: 0.021 | P21: =Q21*D21 -> 28757.037 | Q21: 0.0314 | R21: =S21*D21 -> 38464.826 | S21: 0.042 | T21: =U21*D21 -> 47989.45 | U21: 0.0524 | V21: =W21*D21 -> 55590.832 | W21: 0.0607 | X21: =Y21*D21 -> 62734.3 | Y21: 0.0685 | Z21: =AA21*D21 -> 68229.275 | AA21: 0.0745 | AB21: =AC21*D21 -> 72991.587 | AC21: 0.0797 | AD21: =AE21*D21 -> 77387.567 | AE21: 0.0845 | AF21: =AG21*D21 -> 78486.562 | AG21: 0.0857 | AH21: =AI21*D21 -> 77021.236 | AI21: 0.0841 | AJ21: =AK21*D21 -> 72991.587 | AK21: 0.0797 | AL21: =AM21*D21 -> 65664.954 | AM21: 0.0717 | AN21: =AO21*D21 -> 54858.169 | AO21: 0.0599 | AP21: =AQ21*D21 -> 40296.485 | AQ21: 0.044 | AR21: =AS21*D21 -> 24269.474 | AS21: 0.0265 | AT21: =AU21*D21 -> 11081.533 | AU21: 0.0121 | AV21: =AW21*D21 -> 2930.6534 | AW21: 0.0032 | AX21: =AY21*D21 -> 0 | AZ21: =BA21*D21 -> 0 | BB21: =IF(SUM(AC21,AA21,Y21,W21,U21,S21,Q21,O21,M21,K21,I21,G21,BA21,AY21,AW21,AU21,AS21,AQ21,AO21,AM21,AK21,AI21,AG21,AE21)=100%,"","Rever")
B22: 11 | C22: =VLOOKUP(B22,'PLANILHA ORÇAMENTÁRIA'!C:M,4,0) -> SINALIZAÇÃO DE TRÂNSITO | D22: =VLOOKUP(B22,'PLANILHA ORÇAMENTÁRIA'!C:M,10,0) -> 1613422.6 | E22: =IFERROR(D22/$D$31,"") -> 0.034323458 | F22: =G22*D22 -> 6615.0325 | G22: 0.0041 | H22: =I22*D22 -> 15004.83 | I22: 0.0093 | J22: =K22*D22 -> 23071.943 | K22: 0.0143 | L22: =M22*D22 -> 33881.874 | M22: 0.021 | N22: =O22*D22 -> 45821.201 | O22: 0.0284 | P22: =Q22*D22 -> 57599.185 | Q22: 0.0357 | R22: =S22*D22 -> 69538.512 | S22: 0.0431 | T22: =U22*D22 -> 77928.31 | U22: 0.0483 | V22: =W22*D22 -> 87931.53 | W22: 0.0545 | X22: =Y22*D22 -> 95837.3 | Y22: 0.0594 | Z22: =AA22*D22 -> 101806.96 | AA22: 0.0631 | AB22: =AC22*D22 -> 107776.63 | AC22: 0.0668 | AD22: =AE22*D22 -> 113423.61 | AE22: 0.0703 | AF22: =AG22*D22 -> 114875.69 | AG22: 0.0712 | AH22: =AI22*D22 -> 114714.34 | AI22: 0.0711 | AJ22: =AK22*D22 -> 111164.81 | AK22: 0.0689 | AL22: =AM22*D22 -> 105033.81 | AM22: 0.0651 | AN22: =AO22*D22 -> 96321.327 | AO22: 0.0597 | AP22: =AQ22*D22 -> 81961.866 | AQ22: 0.0508 | AR22: =AS22*D22 -> 65020.929 | AS22: 0.0403 | AT22: =AU22*D22 -> 45498.516 | AU22: 0.0282 | AV22: =AW22*D22 -> 26298.788 | AW22: 0.0163 | AX22: =AY22*D22 -> 12907.38 | AY22: 0.008 | AZ22: =BA22*D22 -> 3388.1874 | BA22: 0.0021 | BB22: =IF(SUM(AC22,AA22,Y22,W22,U22,S22,Q22,O22,M22,K22,I22,G22,BA22,AY22,AW22,AU22,AS22,AQ22,AO22,AM22,AK22,AI22,AG22,AE22)=100%,"","Rever")
B23: 12 | C23: =VLOOKUP(B23,'PLANILHA ORÇAMENTÁRIA'!C:M,4,0) -> GERADOR DE ENERGIA | D23: =VLOOKUP(B23,'PLANILHA ORÇAMENTÁRIA'!C:M,10,0) -> 340421.28 | E23: =IFERROR(D23/$D$31,"") -> 0.0072420182 | F23: =G23*D23 -> 1395.7272 | G23: 0.0041 | H23: =I23*D23 -> 3165.9179 | I23: 0.0093 | J23: =K23*D23 -> 4868.0243 | K23: 0.0143 | L23: =M23*D23 -> 7148.8469 | M23: 0.021 | N23: =O23*D23 -> 9667.9644 | O23: 0.0284 | P23: =Q23*D23 -> 12153.04 | Q23: 0.0357 | R23: =S23*D23 -> 14672.157 | S23: 0.0431 | T23: =U23*D23 -> 16442.348 | U23: 0.0483 | V23: =W23*D23 -> 18552.96 | W23: 0.0545 | X23: =Y23*D23 -> 20221.024 | Y23: 0.0594 | Z23: =AA23*D23 -> 21480.583 | AA23: 0.0631 | AB23: =AC23*D23 -> 22740.142 | AC23: 0.0668 | AD23: =AE23*D23 -> 23931.616 | AE23: 0.0703 | AF23: =AG23*D23 -> 24237.995 | AG23: 0.0712 | AH23: =AI23*D23 -> 24203.953 | AI23: 0.0711 | AJ23: =AK23*D23 -> 23455.026 | AK23: 0.0689 | AL23: =AM23*D23 -> 22161.425 | AM23: 0.0651 | AN23: =AO23*D23 -> 20323.15 | AO23: 0.0597 | AP23: =AQ23*D23 -> 17293.401 | AQ23: 0.0508 | AR23: =AS23*D23 -> 13718.978 | AS23: 0.0403 | AT23: =AU23*D23 -> 9599.8801 | AU23: 0.0282 | AV23: =AW23*D23 -> 5548.8669 | AW23: 0.0163 | AX23: =AY23*D23 -> 2723.3702 | AY23: 0.008 | AZ23: =BA23*D23 -> 714.88469 | BA23: 0.0021 | BB23: =IF(SUM(AC23,AA23,Y23,W23,U23,S23,Q23,O23,M23,K23,I23,G23,BA23,AY23,AW23,AU23,AS23,AQ23,AO23,AM23,AK23,AI23,AG23,AE23)=100%,"","Rever")
B24: 13 | C24: =VLOOKUP(B24,'PLANILHA ORÇAMENTÁRIA'!C:M,4,0) -> CONTROLE TECNOLÓGICO | D24: =VLOOKUP(B24,'PLANILHA ORÇAMENTÁRIA'!C:M,10,0) -> 1758071 | E24: =IFERROR(D24/$D$31,"") -> 0.037400665 | F24: =G24*D24 -> 7208.0911 | G24: 0.0041 | H24: =I24*D24 -> 16350.06 | I24: 0.0093 | J24: =K24*D24 -> 25140.415 | K24: 0.0143 | L24: =M24*D24 -> 36919.491 | M24: 0.021 | N24: =O24*D24 -> 49929.216 | O24: 0.0284 | P24: =Q24*D24 -> 62763.135 | Q24: 0.0357 | R24: =S24*D24 -> 75772.86 | S24: 0.0431 | T24: =U24*D24 -> 84914.829 | U24: 0.0483 | V24: =W24*D24 -> 95814.87 | W24: 0.0545 | X24: =Y24*D24 -> 104429.42 | Y24: 0.0594 | Z24: =AA24*D24 -> 110934.28 | AA24: 0.0631 | AB24: =AC24*D24 -> 117439.14 | AC24: 0.0668 | AD24: =AE24*D24 -> 123592.39 | AE24: 0.0703 | AF24: =AG24*D24 -> 125174.66 | AG24: 0.0712 | AH24: =AI24*D24 -> 124998.85 | AI24: 0.0711 | AJ24: =AK24*D24 -> 121131.09 | AK24: 0.0689 | AL24: =AM24*D24 -> 114450.42 | AM24: 0.0651 | AN24: =AO24*D24 -> 104956.84 | AO24: 0.0597 | AP24: =AQ24*D24 -> 89310.007 | AQ24: 0.0508 | AR24: =AS24*D24 -> 70850.261 | AS24: 0.0403 | AT24: =AU24*D24 -> 49577.602 | AU24: 0.0282 | AV24: =AW24*D24 -> 28656.557 | AW24: 0.0163 | AX24: =AY24*D24 -> 14064.568 | AY24: 0.008 | AZ24: =BA24*D24 -> 3691.9491 | BA24: 0.0021 | BB24: =IF(SUM(AC24,AA24,Y24,W24,U24,S24,Q24,O24,M24,K24,I24,G24,BA24,AY24,AW24,AU24,AS24,AQ24,AO24,AM24,AK24,AI24,AG24,AE24)=100%,"","Rever")
B25: 14 | C25: =VLOOKUP(B25,'PLANILHA ORÇAMENTÁRIA'!C:M,4,0) -> APOIO E EQUIPAMENTOS DIVERSOS | D25: =VLOOKUP(B25,'PLANILHA ORÇAMENTÁRIA'!C:M,10,0) -> 1308789.9 | E25: =IFERROR(D25/$D$31,"") -> 0.027842796 | F25: =G25*D25 -> 0 | H25: =I25*D25 -> 0 | J25: =K25*D25 -> 0 | L25: =M25*D25 -> 0 | N25: =O25*D25 -> 7198.3445 | O25: 0.0055 | P25: =Q25*D25 -> 16883.39 | Q25: 0.0129 | R25: =S25*D25 -> 27484.588 | S25: 0.021 | T25: =U25*D25 -> 41096.003 | U25: 0.0314 | V25: =W25*D25 -> 54969.176 | W25: 0.042 | X25: =Y25*D25 -> 68580.591 | Y25: 0.0524 | Z25: =AA25*D25 -> 79443.547 | AA25: 0.0607 | AB25: =AC25*D25 -> 89652.108 | AC25: 0.0685 | AD25: =AE25*D25 -> 97504.848 | AE25: 0.0745 | AF25: =AG25*D25 -> 104310.56 | AG25: 0.0797 | AH25: =AI25*D25 -> 110592.75 | AI25: 0.0845 | AJ25: =AK25*D25 -> 112163.29 | AK25: 0.0857 | AL25: =AM25*D25 -> 110069.23 | AM25: 0.0841 | AN25: =AO25*D25 -> 104310.56 | AO25: 0.0797 | AP25: =AQ25*D25 -> 93840.236 | AQ25: 0.0717 | AR25: =AS25*D25 -> 78396.515 | AS25: 0.0599 | AT25: =AU25*D25 -> 57586.756 | AU25: 0.044 | AV25: =AW25*D25 -> 34682.932 | AW25: 0.0265 | AX25: =AY25*D25 -> 15836.358 | AY25: 0.0121 | AZ25: =BA25*D25 -> 4188.1277 | BA25: 0.0032 | BB25: =IF(SUM(AC25,AA25,Y25,W25,U25,S25,Q25,O25,M25,K25,I25,G25,BA25,AY25,AW25,AU25,AS25,AQ25,AO25,AM25,AK25,AI25,AG25,AE25)=100%,"","Rever")
B26: 15 | C26: =VLOOKUP(B26,'PLANILHA ORÇAMENTÁRIA'!C:M,4,0) -> SERVIÇOS FINAIS | D26: =VLOOKUP(B26,'PLANILHA ORÇAMENTÁRIA'!C:M,10,0) -> 18436.5 | E26: =IFERROR(D26/$D$31,"") -> 0.00039221246 | F26: =G26*D26 -> 510.69105 | G26: 0.0277 | H26: =I26*D26 -> 1568.9461 | I26: 0.0851 | J26: =K26*D26 -> 2700.9472 | K26: 0.1465 | L26: =M26*D26 -> 3490.0294 | M26: 0.1893 | N26: =O26*D26 -> 0 | P26: =Q26*D26 -> 0 | R26: =S26*D26 -> 0 | T26: =U26*D26 -> 0 | V26: =W26*D26 -> 0 | X26: =Y26*D26 -> 0 | Z26: =AA26*D26 -> 0 | AB26: =AC26*D26 -> 0 | AD26: =AE26*D26 -> 0 | AF26: =AG26*D26 -> 0 | AH26: =AI26*D26 -> 0 | AJ26: =AK26*D26 -> 0 | AL26: =AM26*D26 -> 0 | AN26: =AO26*D26 -> 0 | AP26: =AQ26*D26 -> 0 | AR26: =AS26*D26 -> 0 | AT26: =AU26*D26 -> 3919.5999 | AU26: 0.2126 | AV26: =AW26*D26 -> 3560.0882 | AW26: 0.1931 | AX26: =AY26*D26 -> 2199.4745 | AY26: 0.1193 | AZ26: =BA26*D26 -> 486.7236 | BA26: 0.0264 | BB26: =IF(SUM(AC26,AA26,Y26,W26,U26,S26,Q26,O26,M26,K26,I26,G26,BA26,AY26,AW26,AU26,AS26,AQ26,AO26,AM26,AK26,AI26,AG26,AE26)=100%,"","Rever")
B27: 16 | C27: =VLOOKUP(B27,'PLANILHA ORÇAMENTÁRIA'!C:M,4,0) -> ENCARGOS SOCIAIS DE SERVIÇOS REALIZADOS COM ADICIONAL NOTURNO (22HS ATÉ 05HS) | D27: =VLOOKUP(B27,'PLANILHA ORÇAMENTÁRIA'!C:M,10,0) -> 1975194.8 | E27: =IFERROR(D27/$D$31,"") -> 0.04201969 | F27: =G27*D27 -> 54712.896 | G27: 0.0277 | H27: =I27*D27 -> 168089.08 | I27: 0.0851 | J27: =K27*D27 -> 289366.04 | K27: 0.1465 | L27: =M27*D27 -> 373904.38 | M27: 0.1893 | N27: =O27*D27 -> 0 | P27: =Q27*D27 -> 0 | R27: =S27*D27 -> 0 | T27: =U27*D27 -> 0 | V27: =W27*D27 -> 0 | X27: =Y27*D27 -> 0 | Z27: =AA27*D27 -> 0 | AB27: =AC27*D27 -> 0 | AD27: =AE27*D27 -> 0 | AF27: =AG27*D27 -> 0 | AH27: =AI27*D27 -> 0 | AJ27: =AK27*D27 -> 0 | AL27: =AM27*D27 -> 0 | AN27: =AO27*D27 -> 0 | AP27: =AQ27*D27 -> 0 | AR27: =AS27*D27 -> 0 | AT27: =AU27*D27 -> 419926.42 | AU27: 0.2126 | AV27: =AW27*D27 -> 381410.12 | AW27: 0.1931 | AX27: =AY27*D27 -> 235640.74 | AY27: 0.1193 | AZ27: =BA27*D27 -> 52145.143 | BA27: 0.0264 | BB27: =IF(SUM(AC27,AA27,Y27,W27,U27,S27,Q27,O27,M27,K27,I27,G27,BA27,AY27,AW27,AU27,AS27,AQ27,AO27,AM27,AK27,AI27,AG27,AE27)=100%,"","Rever")
B28: 17 | C28: =VLOOKUP(B28,'PLANILHA ORÇAMENTÁRIA'!C:M,4,0) -> MOBILIZAÇÃO E DESMOBILIZAÇÃO DA OBRA | D28: =VLOOKUP(B28,'PLANILHA ORÇAMENTÁRIA'!C:M,10,0) -> 82958.182 | E28: =IFERROR(D28/$D$31,"") -> 0.001764827 | F28: =G28*D28 -> 2297.9416 | G28: 0.0277 | H28: =I28*D28 -> 7059.7413 | I28: 0.0851 | J28: =K28*D28 -> 12153.374 | K28: 0.1465 | L28: =M28*D28 -> 15703.984 | M28: 0.1893 | N28: =O28*D28 -> 0 | P28: =Q28*D28 -> 0 | R28: =S28*D28 -> 0 | T28: =U28*D28 -> 0 | V28: =W28*D28 -> 0 | X28: =Y28*D28 -> 0 | Z28: =AA28*D28 -> 0 | AB28: =AC28*D28 -> 0 | AD28: =AE28*D28 -> 0 | AF28: =AG28*D28 -> 0 | AH28: =AI28*D28 -> 0 | AJ28: =AK28*D28 -> 0 | AL28: =AM28*D28 -> 0 | AN28: =AO28*D28 -> 0 | AP28: =AQ28*D28 -> 0 | AR28: =AS28*D28 -> 0 | AT28: =AU28*D28 -> 17636.909 | AU28: 0.2126 | AV28: =AW28*D28 -> 16019.225 | AW28: 0.1931 | AX28: =AY28*D28 -> 9896.9111 | AY28: 0.1193 | AZ28: =BA28*D28 -> 2190.096 | BA28: 0.0264 | BB28: =IF(SUM(AC28,AA28,Y28,W28,U28,S28,Q28,O28,M28,K28,I28,G28,BA28,AY28,AW28,AU28,AS28,AQ28,AO28,AM28,AK28,AI28,AG28,AE28)=100%,"","Rever")
B29: 18 | C29: =VLOOKUP(B29,'PLANILHA ORÇAMENTÁRIA'!C:M,4,0) -> ADMINISTRAÇÃO LOCAL | D29: =VLOOKUP(B29,'PLANILHA ORÇAMENTÁRIA'!C:M,10,0) -> 5443063 | E29: =IFERROR(D29/$D$31,"") -> 0.11579406 | F29: =G29*D29 -> 22316.558 | G29: 0.0041 | H29: =I29*D29 -> 50620.486 | I29: 0.0093 | J29: =K29*D29 -> 77835.801 | K29: 0.0143 | L29: =M29*D29 -> 114304.32 | M29: 0.021 | N29: =O29*D29 -> 154582.99 | O29: 0.0284 | P29: =Q29*D29 -> 194317.35 | Q29: 0.0357 | R29: =S29*D29 -> 234596.02 | S29: 0.0431 | T29: =U29*D29 -> 262899.94 | U29: 0.0483 | V29: =W29*D29 -> 296646.93 | W29: 0.0545 | X29: =Y29*D29 -> 323317.94 | Y29: 0.0594 | Z29: =AA29*D29 -> 343457.28 | AA29: 0.0631 | AB29: =AC29*D29 -> 363596.61 | AC29: 0.0668 | AD29: =AE29*D29 -> 382647.33 | AE29: 0.0703 | AF29: =AG29*D29 -> 387546.09 | AG29: 0.0712 | AH29: =AI29*D29 -> 387001.78 | AI29: 0.0711 | AJ29: =AK29*D29 -> 375027.04 | AK29: 0.0689 | AL29: =AM29*D29 -> 354343.4 | AM29: 0.0651 | AN29: =AO29*D29 -> 324950.86 | AO29: 0.0597 | AP29: =AQ29*D29 -> 276507.6 | AQ29: 0.0508 | AR29: =AS29*D29 -> 219355.44 | AS29: 0.0403 | AT29: =AU29*D29 -> 153494.38 | AU29: 0.0282 | AV29: =AW29*D29 -> 88721.927 | AW29: 0.0163 | AX29: =AY29*D29 -> 43544.504 | AY29: 0.008 | AZ29: =BA29*D29 -> 11430.432 | BA29: 0.0021 | BB29: =IF(SUM(AC29,AA29,Y29,W29,U29,S29,Q29,O29,M29,K29,I29,G29,BA29,AY29,AW29,AU29,AS29,AQ29,AO29,AM29,AK29,AI29,AG29,AE29)=100%,"","Rever")
B31: TOTAIS | D31: =SUBTOTAL(9,D12:D29) -> 47006411 | E31: =SUM(E12:E29) -> 1 | F31: =SUBTOTAL(9,F12:F29) -> 110286.55 | G31: =IFERROR(F31/$D$31,0) -> 0.0023462024 | H31: =SUBTOTAL(9,H12:H29) -> 316914.64 | I31: =IFERROR(H31/$D$31,0) -> 0.0067419451 | J31: =SUBTOTAL(9,J12:J29) -> 586784.74 | K31: =IFERROR(J31/$D$31,0) -> 0.012483079 | L31: =SUBTOTAL(9,L12:L29) -> 1033598.3 | M31: =IFERROR(L31/$D$31,0) -> 0.021988454 | N31: =SUBTOTAL(9,N12:N29) -> 1137982.7 | O31: =IFERROR(N31/$D$31,0) -> 0.024209096 | P31: =SUBTOTAL(9,P12:P29) -> 1703935.4 | Q31: =IFERROR(P31/$D$31,0) -> 0.036249 | R31: =SUBTOTAL(9,R12:R29) -> 2287839.7 | S31: =IFERROR(R31/$D$31,0) -> 0.048670801 | T31: =SUBTOTAL(9,T12:T29) -> 2661924.8 | U31: =IFERROR(T31/$D$31,0) -> 0.056628973 | V31: =SUBTOTAL(9,V12:V29) -> 3088701.9 | W31: =IFERROR(V31/$D$31,0) -> 0.065708099 | X31: =SUBTOTAL(9,X12:X29) -> 3415394.8 | Y31: =IFERROR(X31/$D$31,0) -> 0.072658065 | Z31: =SUBTOTAL(9,Z12:Z29) -> 3617920.7 | AA31: =IFERROR(Z31/$D$31,0) -> 0.076966538 | AB31: =SUBTOTAL(9,AB12:AB29) -> 3765053.8 | AC31: =IFERROR(AB31/$D$31,0) -> 0.080096602 | AD31: =SUBTOTAL(9,AD12:AD29) -> 3933985.8 | AE31: =IFERROR(AD31/$D$31,0) -> 0.08369041 | AF31: =SUBTOTAL(9,AF12:AF29) -> 3820366.7 | AG31: =IFERROR(AF31/$D$31,0) -> 0.081273312 | AH31: =SUBTOTAL(9,AH12:AH29) -> 3593101.3 | AI31: =IFERROR(AH31/$D$31,0) -> 0.076438539 | AJ31: =SUBTOTAL(9,AJ12:AJ29) -> 3169902.8 | AK31: =IFERROR(AJ31/$D$31,0) -> 0.067435542 | AL31: =SUBTOTAL(9,AL12:AL29) -> 2525562.5 | AM31: =IFERROR(AL31/$D$31,0) -> 0.053728045 | AN31: =SUBTOTAL(9,AN12:AN29) -> 1824503.1 | AO31: =IFERROR(AN31/$D$31,0) -> 0.03881392 | AP31: =SUBTOTAL(9,AP12:AP29) -> 1271571.8 | AQ31: =IFERROR(AP31/$D$31,0) -> 0.027051029 | AR31: =SUBTOTAL(9,AR12:AR29) -> 880850.16 | AS31: =IFERROR(AR31/$D$31,0) -> 0.018738937 | AT31: =SUBTOTAL(9,AT12:AT29) -> 1022783.3 | AU31: =IFERROR(AT31/$D$31,0) -> 0.021758379 | AV31: =SUBTOTAL(9,AV12:AV29) -> 737481.69 | AW31: =IFERROR(AV31/$D$31,0) -> 0.01568896 | AX31: =SUBTOTAL(9,AX12:AX29) -> 405653.75 | AY31: =IFERROR(AX31/$D$31,0) -> 0.0086297538 | AZ31: =SUBTOTAL(9,AZ12:AZ29) -> 94309.878 | BA31: =IFERROR(AZ31/$D$31,0) -> 0.0020063195
